BEGIN:VCALENDAR
VERSION:2.0
PRODID:-//NCEJN - ECPv6.15.13.1//NONSGML v1.0//EN
CALSCALE:GREGORIAN
METHOD:PUBLISH
X-WR-CALNAME:NCEJN
X-ORIGINAL-URL:https://ncejn.org
X-WR-CALDESC:Events for NCEJN
REFRESH-INTERVAL;VALUE=DURATION:PT1H
X-Robots-Tag:noindex
X-PUBLISHED-TTL:PT1H
BEGIN:VTIMEZONE
TZID:America/New_York
BEGIN:DAYLIGHT
TZOFFSETFROM:-0500
TZOFFSETTO:-0400
TZNAME:EDT
DTSTART:20250309T070000
END:DAYLIGHT
BEGIN:STANDARD
TZOFFSETFROM:-0400
TZOFFSETTO:-0500
TZNAME:EST
DTSTART:20251102T060000
END:STANDARD
BEGIN:DAYLIGHT
TZOFFSETFROM:-0500
TZOFFSETTO:-0400
TZNAME:EDT
DTSTART:20260308T070000
END:DAYLIGHT
BEGIN:STANDARD
TZOFFSETFROM:-0400
TZOFFSETTO:-0500
TZNAME:EST
DTSTART:20261101T060000
END:STANDARD
BEGIN:DAYLIGHT
TZOFFSETFROM:-0500
TZOFFSETTO:-0400
TZNAME:EDT
DTSTART:20270314T070000
END:DAYLIGHT
BEGIN:STANDARD
TZOFFSETFROM:-0400
TZOFFSETTO:-0500
TZNAME:EST
DTSTART:20271107T060000
END:STANDARD
END:VTIMEZONE
BEGIN:VEVENT
DTSTART;VALUE=DATE:20260420
DTEND;VALUE=DATE:20260428
DTSTAMP:20260425T164038
CREATED:20260412T203740Z
LAST-MODIFIED:20260412T203740Z
UID:7738-1776643200-1777334399@ncejn.org
SUMMARY:North Carolina AFL‑CIO Spring Voter Contact Blitz
DESCRIPTION:Union‑to‑union canvassing\, phone banking\, and community outreach. \nThis event will be from April 20th to April 27th
URL:https://ncejn.org/event/north-carolina-afl-cio-spring-voter-contact-blitz/
LOCATION:NC
CATEGORIES:Environmental Justice Event
ATTACH;FMTTYPE=image/png:https://ncejn.org/wp-content/uploads/2026/04/labor.png
END:VEVENT
BEGIN:VEVENT
DTSTART;TZID=America/New_York:20260421T170000
DTEND;TZID=America/New_York:20260421T190000
DTSTAMP:20260425T164038
CREATED:20260421T153032Z
LAST-MODIFIED:20260421T153032Z
UID:7801-1776790800-1776798000@ncejn.org
SUMMARY:EJ Film and Panel Discussion with Dr. Valerie Ann Johnson in Greensboro
DESCRIPTION:Join Dr. Valerie Ann Johnson (NCEJN)\, Kennedy Williams (CleanAireNC)\, and Dr. Bhiwan Thapa (UNG\, GES) for an EJ Film and Panel Discussion\, Today\, April 21 • 5-7 PM at The Elliott University Center Claxton Room (UNCG)\, 507 Stirling St.\, Greensboro\, NC 27412
URL:https://ncejn.org/event/ej-film-and-panel-discussion-with-dr-valerie-ann-johnson-in-greensboro/
LOCATION:The Elliott University Center Claxton Room (UNCG)\, 507 Stirling St.\, Greensboro\, NC\, 27412\, United States
ATTACH;FMTTYPE=image/png:https://ncejn.org/wp-content/uploads/2026/04/DrValerie.png
END:VEVENT
BEGIN:VEVENT
DTSTART;TZID=America/New_York:20260421T173000
DTEND;TZID=America/New_York:20260421T190000
DTSTAMP:20260425T164038
CREATED:20260421T145732Z
LAST-MODIFIED:20260421T150250Z
UID:7796-1776792600-1776798000@ncejn.org
SUMMARY:Jobs with Justice\, Food and Water Watch
DESCRIPTION:Register: Join Labor Network for Sustainability\, Jobs with Justice\, Food and Water Watch\, and Climate Justice Alliance on Tuesday\, April 21 • 5:30 PM for Debunking Data Centers Jobs and Labor Webinar
URL:https://ncejn.org/event/jobs-with-justice-food-and-water-watch/
LOCATION:NC
CATEGORIES:Environmental Justice Event
ATTACH;FMTTYPE=image/png:https://ncejn.org/wp-content/uploads/2026/04/datacenters-labor-and-jobs.png
END:VEVENT
BEGIN:VEVENT
DTSTART;TZID=America/New_York:20260421T173000
DTEND;TZID=America/New_York:20260421T193000
DTSTAMP:20260425T164038
CREATED:20260305T032604Z
LAST-MODIFIED:20260421T153145Z
UID:7390-1776792600-1776799800@ncejn.org
SUMMARY:Siembra NC: Enough Should Be Enough Listening Tour -- Guilford County
DESCRIPTION:Join SiembraNC for the Enough Should Be Enough Listening Tour Team Launch Trainings. You’ll get everything you need to work as a team\, including learning how to use our conversation tool\, how to think about who to have conversations with and how we’ll develop an agenda together over the next several months \nThis event will be on Tuesday\, April 21 from 5:30 pm to 7:30 pm.
URL:https://ncejn.org/event/siembre-nc-enough-should-be-enough-listening-tour-guilford-county/
LOCATION:NC
CATEGORIES:Environmental Justice Event
END:VEVENT
BEGIN:VEVENT
DTSTART;TZID=America/New_York:20260421T180000
DTEND;TZID=America/New_York:20260421T200000
DTSTAMP:20260425T164038
CREATED:20260330T022210Z
LAST-MODIFIED:20260330T022210Z
UID:7597-1776794400-1776801600@ncejn.org
SUMMARY:Town Hall meeting on data centers (Watuga County)
DESCRIPTION:This hearing is to discuss a potential county-wide moratoreum on data centers. \nThis public hearing will be on Tuesday\, April 21 at 6:00 pm.
URL:https://ncejn.org/event/town-hall-meeting-on-data-centers-watuga-county/
LOCATION:Boone Town Hall\, 567 W King St\, Boone\, NC\, 28607\, United States
CATEGORIES:Environmental Justice Event
END:VEVENT
BEGIN:VEVENT
DTSTART;TZID=America/New_York:20260421T180000
DTEND;TZID=America/New_York:20260421T200000
DTSTAMP:20260425T164038
CREATED:20260330T024053Z
LAST-MODIFIED:20260330T024053Z
UID:7603-1776794400-1776801600@ncejn.org
SUMMARY:Town Hall meeting on data centers (Orange County)
DESCRIPTION:Orange County to hold a public hearing before considering a one-year moratorium on large-scale data centers\, including artificial intelligence data centers\, cryptocurrency mining facilities\, and data processing facilities. \nThis event will be on Tuesday\, April 21st.
URL:https://ncejn.org/event/town-hall-meeting-on-data-centers-orange-county/
LOCATION:NC
CATEGORIES:Environmental Justice Event
END:VEVENT
BEGIN:VEVENT
DTSTART;TZID=America/New_York:20260421T193000
DTEND;TZID=America/New_York:20260421T203000
DTSTAMP:20260425T164038
CREATED:20260421T150531Z
LAST-MODIFIED:20260421T150531Z
UID:7799-1776799800-1776803400@ncejn.org
SUMMARY:Iran’s Consequences on the World Economy
DESCRIPTION:Iran’s Consequences on the World Economy- Two whistleblowers of remarkable experience\, Matthew Hoh & Ray McGovern will speak on Tuesday\, April 21 • 7:30 PM at Community Church\, 106 Purefoy Road\, Chapel Hill
URL:https://ncejn.org/event/irans-consequences-on-the-world-economy/
LOCATION:Community Church of Chapel Hill\, 106 Purefoy Rd\, Chapel Hill\, NC\, United States
CATEGORIES:Environmental Justice Event
END:VEVENT
END:VCALENDAR