BEGIN:VCALENDAR
VERSION:2.0
PRODID:-//NCEJN - ECPv6.15.13.1//NONSGML v1.0//EN
CALSCALE:GREGORIAN
METHOD:PUBLISH
X-ORIGINAL-URL:https://ncejn.org
X-WR-CALDESC:Events for NCEJN
REFRESH-INTERVAL;VALUE=DURATION:PT1H
X-Robots-Tag:noindex
X-PUBLISHED-TTL:PT1H
BEGIN:VTIMEZONE
TZID:America/New_York
BEGIN:DAYLIGHT
TZOFFSETFROM:-0500
TZOFFSETTO:-0400
TZNAME:EDT
DTSTART:20240310T070000
END:DAYLIGHT
BEGIN:STANDARD
TZOFFSETFROM:-0400
TZOFFSETTO:-0500
TZNAME:EST
DTSTART:20241103T060000
END:STANDARD
BEGIN:DAYLIGHT
TZOFFSETFROM:-0500
TZOFFSETTO:-0400
TZNAME:EDT
DTSTART:20250309T070000
END:DAYLIGHT
BEGIN:STANDARD
TZOFFSETFROM:-0400
TZOFFSETTO:-0500
TZNAME:EST
DTSTART:20251102T060000
END:STANDARD
BEGIN:DAYLIGHT
TZOFFSETFROM:-0500
TZOFFSETTO:-0400
TZNAME:EDT
DTSTART:20260308T070000
END:DAYLIGHT
BEGIN:STANDARD
TZOFFSETFROM:-0400
TZOFFSETTO:-0500
TZNAME:EST
DTSTART:20261101T060000
END:STANDARD
END:VTIMEZONE
BEGIN:VEVENT
DTSTART;TZID=America/New_York:20250401T183000
DTEND;TZID=America/New_York:20250401T193000
DTSTAMP:20260419T110701
CREATED:20250402T174651Z
LAST-MODIFIED:20250402T174651Z
UID:5575-1743532200-1743535800@ncejn.org
SUMMARY:Virtual Comment Party: No SSEP!
DESCRIPTION:Transcontinental Gas Pipe Line Company\, LLC has applied to the Federal Energy Regulatory Commission (FERC) to build the Southeast Supply Enhancement Project (SSEP)\, the largest East Coast pipeline proposed in a decade. Join us to learn more about the proposed project\, how to engage with FERC\, and how to draft and submit comments in opposition to SSEP! Participating organizations: POWHR\, Chesapeake Climate Action Network\, 7 Directions of Service\, ARTivism Virginia\, North Carolina League of Conservation Voters\, Appalachian Voices\, Sierra Club
URL:https://ncejn.org/event/virtual-comment-party-no-ssep/
LOCATION:NC
CATEGORIES:Environmental Justice Event
END:VEVENT
BEGIN:VEVENT
DTSTART;TZID=America/New_York:20250404T100000
DTEND;TZID=America/New_York:20250404T120000
DTSTAMP:20260419T110701
CREATED:20250220T000225Z
LAST-MODIFIED:20250220T000225Z
UID:5095-1743760800-1743768000@ncejn.org
SUMMARY:EJ Lecture: Dr Yoshira Ornelas Van Horne
DESCRIPTION:This year’s Environmental Justice lecture inspired by Dr Steve Wing – will feature Dr. Yoshira Ornelas Van Horne. \n  \nBoth in-person and virtual options are available. \nThe lecture will be at 10:15 AM\, Friday April 4th
URL:https://ncejn.org/event/ej-lecture-dr-yoshira-ornelas-van-horne/
LOCATION:NC
CATEGORIES:Environmental Justice Event
ATTACH;FMTTYPE=image/png:https://ncejn.org/wp-content/uploads/2025/02/Screenshot-2025-02-19-at-6.59.19 PM.png
END:VEVENT
BEGIN:VEVENT
DTSTART;TZID=America/New_York:20250405T180000
DTEND;TZID=America/New_York:20250405T210000
DTSTAMP:20260419T110701
CREATED:20250312T201758Z
LAST-MODIFIED:20250312T201758Z
UID:5367-1743876000-1743886800@ncejn.org
SUMMARY:40th Annual Martin Luther King Support for Labor Banquet
DESCRIPTION:Register: Black Workers for Justice 40th Annual Martin Luther King Support for Labor Banquet on Saturday\, April 5 • 6 – 9 PM at Wake County Commons Building\, 4011 Carya Drive in Raleigh
URL:https://ncejn.org/event/40th-annual-martin-luther-king-support-for-labor-banquet/
LOCATION:Wake County Commons Building\, 4011 Carya Drive\, Raleigh\, NC\, 27610\, United States
CATEGORIES:Environmental Justice Event
ATTACH;FMTTYPE=image/png:https://ncejn.org/wp-content/uploads/2025/03/Screenshot-2025-03-12-083726.png
END:VEVENT
BEGIN:VEVENT
DTSTART;TZID=America/New_York:20250407T200000
DTEND;TZID=America/New_York:20250407T213000
DTSTAMP:20260419T110701
CREATED:20250225T163331Z
LAST-MODIFIED:20250225T163358Z
UID:5138-1744056000-1744061400@ncejn.org
SUMMARY:Webinar: A National Call To Action- Discover the truth about industrial biomass energy
DESCRIPTION:Register: Join Break Big Biomass Coalition for A National Call To Action Webinar – for an urgent and transformative online rally and national call to action. Discover the truth about industrial biomass energy on April 7\, at 8:00 – 9:30 PM \n\n\nBiomass Basics \n\nWe’ll explain what large-scale biomass energy is. Who the key players are. We’ll share our urgent call to action.\n\n\n\n\nCommunity Concerns \n\nHear directly from frontline voices. Our panel will include community members from Alabama\, Georgia\, Mississippi\, North Carolina\, and California.\n\n\n\n\nPollution and Public Health \n\nMeet Dr. Erika Walker. The lead researcher from Brown University studying the health impacts of biomass pollution. Joining her will be Heather Hililaker from Southern Environmental Law Center (SELC)….\nView More\n\n\n\n\nTake Action \n\nWe’ll give you clear guidance and important actions. This is your chance to help break big biomass.
URL:https://ncejn.org/event/webinar-a-national-call-to-action-discover-the-truth-about-industrial-biomass-energy/
LOCATION:NC
CATEGORIES:Environmental Justice Event
ATTACH;FMTTYPE=image/png:https://ncejn.org/wp-content/uploads/2025/02/b07107f3-25d5-1059-5953-a51027b0decc.png
END:VEVENT
BEGIN:VEVENT
DTSTART;TZID=America/New_York:20250408T150000
DTEND;TZID=America/New_York:20250408T160000
DTSTAMP:20260419T110701
CREATED:20250402T175847Z
LAST-MODIFIED:20250402T175847Z
UID:5582-1744124400-1744128000@ncejn.org
SUMMARY:Register: Virtual Rights of Nature -- Lobby Training
DESCRIPTION:Join 7 Directions of Service Action Fund for a weekly call to get updated on Rights of Nature Bill HB 345 in the NC General Assembly\, and take action together. \nDate and Times for April: \n\nApr 8\, 2025 03:00 PM\nApr 15\, 2025 03:00 PM\nApr 22\, 2025 03:00 PM\nApr 29\, 2025 03:00 PM
URL:https://ncejn.org/event/register-virtual-rights-of-nature-lobby-training/
LOCATION:NC
CATEGORIES:Environmental Justice Event
END:VEVENT
BEGIN:VEVENT
DTSTART;TZID=America/New_York:20250415T130000
DTEND;TZID=America/New_York:20250415T134500
DTSTAMP:20260419T110701
CREATED:20250410T164858Z
LAST-MODIFIED:20250410T164858Z
UID:5715-1744722000-1744724700@ncejn.org
SUMMARY:Webinar: Shaping the Future of Food
DESCRIPTION:Join the Institute for Agriculture & Trade Policy for their spring ‘Shaping the future of food: Trade and Tariffs’ event series. Tuesday\, April 15 • 1 – 1.45 pm  \nFrom the organizers: \nShaping the Future of Food is a virtual event series introducing the Institute for Agriculture and Trade Policy and our work. This spring\, IATP expert staff and associates will dig deeper into specific areas of our work — from corporate climate disclosure to trade policy — and explain how each area of work is crucial to shaping a sustainable future of our food. We invite you to learn more about our work\, our vision for the future and how you can help. The spring series will conclude with an in-person event in June to learn more and gather together in shaping a sustainable future of food.
URL:https://ncejn.org/event/webinar-shaping-the-future-of-food/
LOCATION:NC
CATEGORIES:Environmental Justice Event
END:VEVENT
BEGIN:VEVENT
DTSTART;TZID=America/New_York:20250422T090000
DTEND;TZID=America/New_York:20250422T110000
DTSTAMP:20260419T110701
CREATED:20250322T013851Z
LAST-MODIFIED:20250322T013851Z
UID:5491-1745312400-1745319600@ncejn.org
SUMMARY:In Person: Earth Day with MMCDC
DESCRIPTION:Event: Join Merrick-Moore Community Development Corporation (MMCDC) for an Earth Day Event: Planting wetland and Pollinator gardens\, Tuesday\, April 22 • 9 – 11 AM\, at the Samuel Green Sr. Community Garden\, 2421 Cheek Rd in Durham\, NC
URL:https://ncejn.org/event/in-person-earth-day-with-mmcdc/
LOCATION:Samuel Green Sr. Community Garden\, 2421 Cheek Rd\, Durham\, NC\, 27704\, United States
CATEGORIES:Environmental Justice Event
END:VEVENT
BEGIN:VEVENT
DTSTART;TZID=America/New_York:20250423T090000
DTEND;TZID=America/New_York:20250423T110000
DTSTAMP:20260419T110701
CREATED:20250402T181148Z
LAST-MODIFIED:20250409T141420Z
UID:5591-1745398800-1745406000@ncejn.org
SUMMARY:Rights of Nature Lobby Day at NC General Assembly
DESCRIPTION:Rights of Nature Lobby Day at NC General Assembly. Wednesday\, April 23\, 9 AM
URL:https://ncejn.org/event/rights-of-nature-lobby-day-at-nc-general-assembly/
LOCATION:Halifax Mall\, 300 N. Salisbury St.\,\, Raleigh\, NC\, 27603\, United States
CATEGORIES:Environmental Justice Event
END:VEVENT
BEGIN:VEVENT
DTSTART;TZID=America/New_York:20250426T120000
DTEND;TZID=America/New_York:20250426T133000
DTSTAMP:20260419T110701
CREATED:20250410T165948Z
LAST-MODIFIED:20250410T165948Z
UID:5721-1745668800-1745674200@ncejn.org
SUMMARY:In-Person: Rally to Stop Climate Deception: Urging Gov. Stein to De-Pollute Duke Energy
DESCRIPTION:Rally to Stop Climate Deception: Urging Gov. Stein to De-Pollute Duke Energy on Saturday\, April 26 • 12:00 -1:30 PM at Lot 20\, 227 East Edenton Street Raleigh\, the Governor’s Mansion
URL:https://ncejn.org/event/in-person-rally-to-stop-climate-deception-urging-gov-stein-to-de-pollute-duke-energy/
LOCATION:227 East Edenton Street Raleigh\, NC 27601\, 227 East Edenton Street\, Raleigh\, NC\, 27601\, United States
CATEGORIES:Environmental Justice Event
END:VEVENT
BEGIN:VEVENT
DTSTART;TZID=America/New_York:20250430T080000
DTEND;TZID=America/New_York:20250430T143000
DTSTAMP:20260419T110701
CREATED:20250408T220956Z
LAST-MODIFIED:20250408T220956Z
UID:5705-1746000000-1746023400@ncejn.org
SUMMARY:Register: Environmental Justice in the Midst of Polycrisis
DESCRIPTION:Register: Environmental Justice in the Midst of Polycrisis: Where Do We Go From Here? Wednesday April 30 · 8 AM – 2:30 PM\, Benson University Center\, 401 2120 Eure Drive\, Winston-Salem. Keynote Speaker will be The Reverend Dr. Benjamin F. Chavis\, Jr. \nFrom the organizers: \nJoin us for the 2025 Environmental and Epistemic Justice Summit—a dynamic\, full-day event where leading scholars\, advocates and activists come together to highlight and discuss the most pressing environmental justice issues of our time. Engage with thought-provoking panel discussions\, gain insights from those on the frontlines\, and be part of the conversation shaping a more just and sustainable future! This free event is open to the public but space is limited. Breakfast and lunch are included. \nKeynote Speaker: \nThe Reverend Dr. Benjamin F. Chavis\, Jr.\, legendary environmental justice leader\, Wilmington 10 member\, civil rights leader\, public intellectual\, NAACP Life Member\, syndicated columnist\, theologian\, author\, and current President and CEO of the National Newspaper Publishers Association (NNPA): The Black Press of America. \nFeatured panels include: \n\nIndigenous Environmental Justice\nMental Health Impacts of Environment and Climate-Related Displacement\nThe Fight for Energy Justice\nEnvironmental Justice Academic Research at WFU
URL:https://ncejn.org/event/register-environmental-justice-in-the-midst-of-polycrisis/
LOCATION:Wake Forest University\, 1834 Wake Forest Rd\, Winston-Salem\, NC\, 27109\, United States
CATEGORIES:Environmental Justice Event
END:VEVENT
END:VCALENDAR