BEGIN:VCALENDAR
VERSION:2.0
PRODID:-//NCEJN - ECPv6.15.13.1//NONSGML v1.0//EN
CALSCALE:GREGORIAN
METHOD:PUBLISH
X-ORIGINAL-URL:https://ncejn.org
X-WR-CALDESC:Events for NCEJN
REFRESH-INTERVAL;VALUE=DURATION:PT1H
X-Robots-Tag:noindex
X-PUBLISHED-TTL:PT1H
BEGIN:VTIMEZONE
TZID:America/New_York
BEGIN:DAYLIGHT
TZOFFSETFROM:-0500
TZOFFSETTO:-0400
TZNAME:EDT
DTSTART:20240310T070000
END:DAYLIGHT
BEGIN:STANDARD
TZOFFSETFROM:-0400
TZOFFSETTO:-0500
TZNAME:EST
DTSTART:20241103T060000
END:STANDARD
BEGIN:DAYLIGHT
TZOFFSETFROM:-0500
TZOFFSETTO:-0400
TZNAME:EDT
DTSTART:20250309T070000
END:DAYLIGHT
BEGIN:STANDARD
TZOFFSETFROM:-0400
TZOFFSETTO:-0500
TZNAME:EST
DTSTART:20251102T060000
END:STANDARD
BEGIN:DAYLIGHT
TZOFFSETFROM:-0500
TZOFFSETTO:-0400
TZNAME:EDT
DTSTART:20260308T070000
END:DAYLIGHT
BEGIN:STANDARD
TZOFFSETFROM:-0400
TZOFFSETTO:-0500
TZNAME:EST
DTSTART:20261101T060000
END:STANDARD
END:VTIMEZONE
BEGIN:VEVENT
DTSTART;TZID=America/New_York:20250304T170000
DTEND;TZID=America/New_York:20250304T180000
DTSTAMP:20260423T054638
CREATED:20250304T162053Z
LAST-MODIFIED:20250304T162053Z
UID:5221-1741107600-1741111200@ncejn.org
SUMMARY:2025 Mellon Environmental Justice Lecture with Sacoby M. Wilson\, Ph.D
DESCRIPTION:Register: 2025 Mellon Environmental Justice Lecture with Sacoby M. Wilson\, Ph.D.\, Tuesday\, March 4\, 5:00 – 6:00 PM\, at Z. Smith Reynolds Library Auditorium\, 2100 Eure Drive Winston-Salem
URL:https://ncejn.org/event/2025-mellon-environmental-justice-lecture-with-sacoby-m-wilson-ph-d/
LOCATION:Z. Smith Reynolds Library Auditorium\, 2100 Eure Drive\, Winston-Salem\, NC\, 27109\, United States
CATEGORIES:Environmental Justice Event
ATTACH;FMTTYPE=image/png:https://ncejn.org/wp-content/uploads/2025/03/2025-Mellon-EJ-Lecture.png
END:VEVENT
END:VCALENDAR