BEGIN:VCALENDAR
VERSION:2.0
PRODID:-//NCEJN - ECPv6.15.13.1//NONSGML v1.0//EN
CALSCALE:GREGORIAN
METHOD:PUBLISH
X-ORIGINAL-URL:https://ncejn.org
X-WR-CALDESC:Events for NCEJN
REFRESH-INTERVAL;VALUE=DURATION:PT1H
X-Robots-Tag:noindex
X-PUBLISHED-TTL:PT1H
BEGIN:VTIMEZONE
TZID:America/New_York
BEGIN:DAYLIGHT
TZOFFSETFROM:-0500
TZOFFSETTO:-0400
TZNAME:EDT
DTSTART:20240310T070000
END:DAYLIGHT
BEGIN:STANDARD
TZOFFSETFROM:-0400
TZOFFSETTO:-0500
TZNAME:EST
DTSTART:20241103T060000
END:STANDARD
BEGIN:DAYLIGHT
TZOFFSETFROM:-0500
TZOFFSETTO:-0400
TZNAME:EDT
DTSTART:20250309T070000
END:DAYLIGHT
BEGIN:STANDARD
TZOFFSETFROM:-0400
TZOFFSETTO:-0500
TZNAME:EST
DTSTART:20251102T060000
END:STANDARD
BEGIN:DAYLIGHT
TZOFFSETFROM:-0500
TZOFFSETTO:-0400
TZNAME:EDT
DTSTART:20260308T070000
END:DAYLIGHT
BEGIN:STANDARD
TZOFFSETFROM:-0400
TZOFFSETTO:-0500
TZNAME:EST
DTSTART:20261101T060000
END:STANDARD
END:VTIMEZONE
BEGIN:VEVENT
DTSTART;TZID=America/New_York:20250325T090000
DTEND;TZID=America/New_York:20250325T140000
DTSTAMP:20260423T183655
CREATED:20250219T235910Z
LAST-MODIFIED:20250219T235910Z
UID:5091-1742893200-1742911200@ncejn.org
SUMMARY:Day of Action
DESCRIPTION:
URL:https://ncejn.org/event/day-of-action/
LOCATION:NC General Assembly\, Raleigh
CATEGORIES:Environmental Justice Event,Other Events
ATTACH;FMTTYPE=image/png:https://ncejn.org/wp-content/uploads/2025/02/Screenshot-2025-02-19-at-6.57.42 PM.png
END:VEVENT
BEGIN:VEVENT
DTSTART;TZID=America/New_York:20250325T140000
DTEND;TZID=America/New_York:20250325T170000
DTSTAMP:20260423T183655
CREATED:20250322T012615Z
LAST-MODIFIED:20250322T012615Z
UID:5484-1742911200-1742922000@ncejn.org
SUMMARY:In Person & Virutal: Governor’s Environmental Justice Advisory Council Meeting
DESCRIPTION:Governor’s Environmental Justice Advisory Council Meeting.  Tuesday\, March 25 • 2-5 PM\, at 325 North Salisbury Street\, Albemarle Building Room 245\, Raleigh. If unable to attend in person\, join via zoom here
URL:https://ncejn.org/event/in-person-virutal-governors-environmental-justice-advisory-council-meeting/
LOCATION:325 North Salisbury Street\, 325 North Salisbury Street\, Raleigh\, NC\, 27603\, United States
CATEGORIES:Environmental Justice Event
END:VEVENT
BEGIN:VEVENT
DTSTART;TZID=America/New_York:20250325T180000
DTEND;TZID=America/New_York:20250325T200000
DTSTAMP:20260423T183655
CREATED:20250322T012829Z
LAST-MODIFIED:20250322T012829Z
UID:5487-1742925600-1742932800@ncejn.org
SUMMARY:Virtual: Clean Economy Coalition of Color: Defending Environmental Justice in a Time of Deregulation and Rollbacks
DESCRIPTION:Register: Join Clean Economy Coalition of Color and the National Wildlife Federation at the National Wildlife Federation’s Environmental Justice\, Health\, and Community Resilience and Revitalization program for a critical roundtable discussion on the urgent threats facing environmental justice under the current wave of regulatory rollbacks\, funding cuts\, and weakened enforcement on Tuesday\, March 25 • 6:00 PM \nFrom the organizers: \nJoin us for a critical roundtable discussion on the urgent threats facing environmental justice under the current wave of regulatory rollbacks\, funding cuts\, and weakened enforcement. This event\, hosted by the CECC\, will bring together leading advocates\, policy experts\, and frontline community leaders to explore the real-world impacts of these changes and the strategies needed to resist and protect hard-won EJ gains. Our panelists will share insights\, discuss legal and grassroots responses\, and collaboratively discuss pathways for collective action. Whether you’re an advocate\, policymaker\, or community member\, this will be a collaborative discussion where attendees can share insights\, ask questions\, and help shape collective action moving forward.
URL:https://ncejn.org/event/virtual-clean-economy-coalition-of-color-defending-environmental-justice-in-a-time-of-deregulation-and-rollbacks/
LOCATION:NC
CATEGORIES:Environmental Justice Event
END:VEVENT
END:VCALENDAR