BEGIN:VCALENDAR
VERSION:2.0
PRODID:-//NCEJN - ECPv6.15.13.1//NONSGML v1.0//EN
CALSCALE:GREGORIAN
METHOD:PUBLISH
X-WR-CALNAME:NCEJN
X-ORIGINAL-URL:https://ncejn.org
X-WR-CALDESC:Events for NCEJN
REFRESH-INTERVAL;VALUE=DURATION:PT1H
X-Robots-Tag:noindex
X-PUBLISHED-TTL:PT1H
BEGIN:VTIMEZONE
TZID:America/New_York
BEGIN:DAYLIGHT
TZOFFSETFROM:-0500
TZOFFSETTO:-0400
TZNAME:EDT
DTSTART:20250309T070000
END:DAYLIGHT
BEGIN:STANDARD
TZOFFSETFROM:-0400
TZOFFSETTO:-0500
TZNAME:EST
DTSTART:20251102T060000
END:STANDARD
BEGIN:DAYLIGHT
TZOFFSETFROM:-0500
TZOFFSETTO:-0400
TZNAME:EDT
DTSTART:20260308T070000
END:DAYLIGHT
BEGIN:STANDARD
TZOFFSETFROM:-0400
TZOFFSETTO:-0500
TZNAME:EST
DTSTART:20261101T060000
END:STANDARD
BEGIN:DAYLIGHT
TZOFFSETFROM:-0500
TZOFFSETTO:-0400
TZNAME:EDT
DTSTART:20270314T070000
END:DAYLIGHT
BEGIN:STANDARD
TZOFFSETFROM:-0400
TZOFFSETTO:-0500
TZNAME:EST
DTSTART:20271107T060000
END:STANDARD
END:VTIMEZONE
BEGIN:VEVENT
DTSTART;VALUE=DATE:20260428
DTEND;VALUE=DATE:20260430
DTSTAMP:20260425T213236
CREATED:20260303T040225Z
LAST-MODIFIED:20260303T040225Z
UID:7343-1777334400-1777507199@ncejn.org
SUMMARY:2026 North Carolina State Energy Conference
DESCRIPTION:The State Energy Conference of North Carolina brings together energy professionals\, policy makers\, innovators\, and businesses to explore the latest trends\, technologies\, and strategies shaping the energy sector. This premier event delivers actionable insights that support North Carolina’s regional energy economy and foster national impact. \nThis event will begin on April 28 and end on April 29.
URL:https://ncejn.org/event/2026-north-carolina-state-energy-conference/
LOCATION:NC
CATEGORIES:Environmental Justice Event
END:VEVENT
BEGIN:VEVENT
DTSTART;TZID=America/New_York:20260428T190000
DTEND;TZID=America/New_York:20260428T203000
DTSTAMP:20260425T213236
CREATED:20260412T213304Z
LAST-MODIFIED:20260414T130506Z
UID:7761-1777402800-1777408200@ncejn.org
SUMMARY:Third Act NC: Statewide Meeting
DESCRIPTION:Learn about the environmental\, social\, and policy implications of the rapidly expanding data center industry in NC and across the country from Dr. Rania Masri\, Director of Organizing and Policy and Co-Director at NC Environmental Justice Network.\n\n\nThis event will be on Tuesday\, April 28 from 7:00 pm to 8:15 pm.
URL:https://ncejn.org/event/third-act-nc-statewide-meeting/
LOCATION:NC
CATEGORIES:Environmental Justice Event
ATTACH;FMTTYPE=image/png:https://ncejn.org/wp-content/uploads/2026/04/Screenshot-2026-04-14-090334.png
END:VEVENT
END:VCALENDAR