BEGIN:VCALENDAR
VERSION:2.0
PRODID:-//NCEJN - ECPv6.15.13.1//NONSGML v1.0//EN
CALSCALE:GREGORIAN
METHOD:PUBLISH
X-ORIGINAL-URL:https://ncejn.org
X-WR-CALDESC:Events for NCEJN
REFRESH-INTERVAL;VALUE=DURATION:PT1H
X-Robots-Tag:noindex
X-PUBLISHED-TTL:PT1H
BEGIN:VTIMEZONE
TZID:UTC
BEGIN:STANDARD
TZOFFSETFROM:+0000
TZOFFSETTO:+0000
TZNAME:UTC
DTSTART:20240101T000000
END:STANDARD
END:VTIMEZONE
BEGIN:VEVENT
DTSTART;TZID=UTC:20250118T120000
DTEND;TZID=UTC:20250118T160000
DTSTAMP:20260424T052624
CREATED:20250116T032352Z
LAST-MODIFIED:20250116T032352Z
UID:4834-1737201600-1737216000@ncejn.org
SUMMARY:Triangle Festival of Resistance
DESCRIPTION:Triangle Festival of Resistance January 18\, 12-4 PM\, 305 S. Dillard St.\, Durham\, and Januray 19th 12-4 PM\, 506 W. Franklin St.\, Chapel Hill
URL:https://ncejn.org/event/triangle-festival-of-resistance/
LOCATION:NC
CATEGORIES:Other Events
ATTACH;FMTTYPE=image/png:https://ncejn.org/wp-content/uploads/2025/01/Screenshot-2025-01-15-at-5.22.13 PM.png
END:VEVENT
BEGIN:VEVENT
DTSTART;TZID=UTC:20250123T183000
DTEND;TZID=UTC:20250123T193000
DTSTAMP:20260424T052624
CREATED:20250116T032559Z
LAST-MODIFIED:20250116T032559Z
UID:4837-1737657000-1737660600@ncejn.org
SUMMARY:Tell the Courts: "Our Votes Matter."
DESCRIPTION:The fight against Jefferson Griffin’s baseless attempts to steal an election needs you! On Thursday\, January 23rd at 6:30pm ET\, Common Cause NC is hosting a statewide virtual town hall to share the latest updates on this case\, hear from impacted voters\, and find out what we can do next.  Learn more\, take action\, and find out whether you or someone you know is on Griffin’s list by going to ccnc.me/WeMatter today. \n  \nOrganized by Common Cause
URL:https://ncejn.org/event/tell-the-courts-our-votes-matter/
LOCATION:NC
CATEGORIES:Other Events
END:VEVENT
BEGIN:VEVENT
DTSTART;TZID=UTC:20250127T120000
DTEND;TZID=UTC:20250127T130000
DTSTAMP:20260424T052624
CREATED:20250118T015449Z
LAST-MODIFIED:20250118T015708Z
UID:4876-1737979200-1737982800@ncejn.org
SUMMARY:Webinar: Zoning Basics and Community Organizing
DESCRIPTION:Join Southern Coalition For Social Justice to learn how zoning decisions shape our communities and what we can do to influence them. \n\nZoning Primer: Anne Harvey\, Chief Counsel for Environmental Justice at the Southern Coalition for Social Justice\, will explain zoning basics—what it is\, how the process works\, and how to get involved.\nCommunity Organizing Insights: Denzel Burnside\, founder of the NC Housing Table\, will share actionable tips from his experience organizing for positive change.\n\nTo learn more about zoning in North Carolina\, check out SCSJ’s North Carolina Zoning 101 Toolkit (also available in Spanish).
URL:https://ncejn.org/event/webinar-zoning-basics-and-community-organizing/
LOCATION:NC
CATEGORIES:Other Events
ATTACH;FMTTYPE=image/jpeg:https://ncejn.org/wp-content/uploads/2025/01/cropped-SCSJ-Logo-TopBottomPadding-scaled-1.jpg
END:VEVENT
BEGIN:VEVENT
DTSTART;TZID=UTC:20250129T080000
DTEND;TZID=UTC:20250129T093000
DTSTAMP:20260424T052624
CREATED:20250123T193018Z
LAST-MODIFIED:20250123T193018Z
UID:4908-1738137600-1738143000@ncejn.org
SUMMARY:Webinar: SPEAKING OF VIOLENCE: Mapping The Terrain
DESCRIPTION:This webinar is the first in a series of webinars titled Towards a People’s Peace – A Global Webinar Series on The Transformative Role of Social Movements in Resisting Violence and Building Peace \nWEBINAR I Speaking of Violence: Mapping the Terrain\nDate: 29 January 2025\nWe introduce the series with a first webinar exploring different categories of collective violence and examining the roots and manifestations of this\, and how these are understood and experienced by social movements. \nSocial justice movements worldwide navigate a complex terrain\, facing multiple forms of violence; from war to oppression\, surveillance to discrimination and beyond. How do people organise and resist in such realities? How can they succeed? \nThis six-part webinar series invites activists\, scholars\, policymakers\, and the public to explore the complex roots\, manifestations and dynamics of violence\, and the transformative role of social movements in acheiving justice and building peace. \nStrategic and sustained non-violent action has proven to be one of the most powerful tools for confronting state and institutional violence and addressing the underlying conditions that fuel conflict and oppression. Understanding the conditions that often lead to violence\, and the many forms in which it manifests can help us to de-escalate and dismantle. \nEach webinar will deliberate on the roots and manifestations of violence\, and the strategic approaches that movements employ to resist and organize. Through the course of these deliberations\, we aim to explore the practical and strategic dimensions of non-violent action\, learn how to support and amplify these efforts\, fostering broader solidarity and systemic transformation towards more just and peaceful societies. \nRead more about other upcoming webinars below! \n\nAbout The Series: \n\n\nThis six-part webinar series invites activists\, scholars\, policymakers\, and the public to explore the complex roots\, manifestations and dynamics of violence\, while also understanding the transformative role of social movements in addressing these\, of building global peace and amplifying justice. \n\n\n\nSocial movements worldwide navigate a complex terrain\, facing multiple forms of violence\, and employing a range of strategies from peaceful protests to armed resistance in order to confront them. Each webinar will deliberate on critical aspects of violence—its origins\, forms\, consequences and explore how social movements can challenge and transform systems of oppression and exploitation. \n\n\n\nThrough the course of these deliberations\, we aim to explore the practical and strategic dimensions of non-violent action\, empowering activists\, policymakers\, scholars\, and citizens to foster more just and peaceful societies. \n\n\n\n\n\nAlso Coming Up: \n\n\nPart II  IN ANOTHER’S LAND: War and Militarization (Webinar) Feb 5 / 05.02 \n\n\nPart III  THE VIOLENT STATE: Dealing with Repression (Webinar) Feb 19 / 19.02 \n\n\nPart IV  UNCIVIL SOCIETY: Ending Violence in People vs. People Conflicts (Webinar) March 3 / 5.03 \n\n\nPart V   THE PEACEFUL PLAY OF PEOPLE POWER: Violence\, Nonviolence and Social Change (Webinar) March 19 / 19.03 \n\n\nPart VI   TOWARDS A PEOPLE’S PEACE: Pathways to a Just and Peaceful World (Live\, at The People Power Conference\, Copenhagen) April 9/ 9.04 \n\nThe Social Movement Webinar Series is hosted by MOVE: The Global Social Movement Centre\, a collaboration between ActionAid Nigeria\, MS TCDC\, Tanzania\, ActionAid Denmark and ActionAid Association\, India.
URL:https://ncejn.org/event/webinar-speaking-of-violence-mapping-the-terrain/
LOCATION:NC
CATEGORIES:Other Events
ATTACH;FMTTYPE=image/png:https://ncejn.org/wp-content/uploads/2025/01/Screenshot-2025-01-23-at-9.25.27 AM.png
END:VEVENT
BEGIN:VEVENT
DTSTART;TZID=UTC:20250130T090000
DTEND;TZID=UTC:20250130T150000
DTSTAMP:20260424T052624
CREATED:20250118T020316Z
LAST-MODIFIED:20250118T020316Z
UID:4880-1738227600-1738249200@ncejn.org
SUMMARY:Empowering Black Farmers: Networking & Knowledge Sharing Summit
DESCRIPTION:Tall Grass invites you to “Empowering Black Farmers: Networking & Knowledge Sharing Summit”\, Empowering Black Farmers Summit\, a gathering for our farmer community and ecosystem partners. \nThe day will be filled with valuable insights\, new connections\, and resources for black farmers and support partners in the agricultural ecosystem. This in-person event is an opportunity to network with fellow farmers\, share experiences\, and gain new insights to enhance your farming experience.
URL:https://ncejn.org/event/empowering-black-farmers-networking-knowledge-sharing-summit/
LOCATION:N.C. Rural Economic Development Center\, 4021 Carya Drive #160\, Raleigh
CATEGORIES:Other Events
ATTACH;FMTTYPE=image/png:https://ncejn.org/wp-content/uploads/2025/01/Screenshot-2025-01-17-092458.png
END:VEVENT
END:VCALENDAR