BEGIN:VCALENDAR
VERSION:2.0
PRODID:-//NCEJN - ECPv6.15.13.1//NONSGML v1.0//EN
CALSCALE:GREGORIAN
METHOD:PUBLISH
X-WR-CALNAME:NCEJN
X-ORIGINAL-URL:https://ncejn.org
X-WR-CALDESC:Events for NCEJN
REFRESH-INTERVAL;VALUE=DURATION:PT1H
X-Robots-Tag:noindex
X-PUBLISHED-TTL:PT1H
BEGIN:VTIMEZONE
TZID:America/New_York
BEGIN:DAYLIGHT
TZOFFSETFROM:-0500
TZOFFSETTO:-0400
TZNAME:EDT
DTSTART:20240310T070000
END:DAYLIGHT
BEGIN:STANDARD
TZOFFSETFROM:-0400
TZOFFSETTO:-0500
TZNAME:EST
DTSTART:20241103T060000
END:STANDARD
BEGIN:DAYLIGHT
TZOFFSETFROM:-0500
TZOFFSETTO:-0400
TZNAME:EDT
DTSTART:20250309T070000
END:DAYLIGHT
BEGIN:STANDARD
TZOFFSETFROM:-0400
TZOFFSETTO:-0500
TZNAME:EST
DTSTART:20251102T060000
END:STANDARD
BEGIN:DAYLIGHT
TZOFFSETFROM:-0500
TZOFFSETTO:-0400
TZNAME:EDT
DTSTART:20260308T070000
END:DAYLIGHT
BEGIN:STANDARD
TZOFFSETFROM:-0400
TZOFFSETTO:-0500
TZNAME:EST
DTSTART:20261101T060000
END:STANDARD
END:VTIMEZONE
BEGIN:VEVENT
DTSTART;TZID=America/New_York:20250315T080000
DTEND;TZID=America/New_York:20250329T170000
DTSTAMP:20260423T183134
CREATED:20250219T211322Z
LAST-MODIFIED:20250219T211322Z
UID:5046-1742025600-1743267600@ncejn.org
SUMMARY:World Beyond War’s 5th Annual Virtual Film Festival
DESCRIPTION:Reserve your spot for World Beyond War’s 5th annual virtual film festival. March 15-March 29
URL:https://ncejn.org/event/world-beyond-wars-5th-annual-virtual-film-festival/
LOCATION:NC
CATEGORIES:Other Events
ATTACH;FMTTYPE=image/png:https://ncejn.org/wp-content/uploads/2025/02/WBW-film-fest-2025-v2-1536x864-1.png
END:VEVENT
BEGIN:VEVENT
DTSTART;TZID=America/New_York:20250319T120000
DTEND;TZID=America/New_York:20250319T140000
DTSTAMP:20260423T183134
CREATED:20250225T162738Z
LAST-MODIFIED:20250225T162738Z
UID:5131-1742385600-1742392800@ncejn.org
SUMMARY:Webinar: Women in Conflict Zones
DESCRIPTION:Sign-up for the Women in Conflict Zones webinar. March 19. Noon
URL:https://ncejn.org/event/webinar-women-in-conflict-zones/
LOCATION:NC
CATEGORIES:Other Events
ATTACH;FMTTYPE=image/png:https://ncejn.org/wp-content/uploads/2025/02/Women-in-Conflict-Zones-1536x864-1.png
END:VEVENT
BEGIN:VEVENT
DTSTART;TZID=America/New_York:20250319T200000
DTEND;TZID=America/New_York:20250319T210000
DTSTAMP:20260423T183134
CREATED:20250306T190151Z
LAST-MODIFIED:20250306T190151Z
UID:5275-1742414400-1742418000@ncejn.org
SUMMARY:Virtual - Pledge to Resist and Protect Campaign : ‘Do not comply: a training to organize resistance in your community.’
DESCRIPTION:Join the public launching of the Pledge to Resist and Protect Campaign. Wednesday March 19 • 8 – 9 PM. ‘Do not comply: a training to organize resistance in your community.’
URL:https://ncejn.org/event/virtual-pledge-to-resist-and-protect-campaign-do-not-comply-a-training-to-organize-resistance-in-your-community/
LOCATION:NC
CATEGORIES:Other Events
END:VEVENT
END:VCALENDAR