BEGIN:VCALENDAR
VERSION:2.0
PRODID:-//NCEJN - ECPv6.15.13.1//NONSGML v1.0//EN
CALSCALE:GREGORIAN
METHOD:PUBLISH
X-ORIGINAL-URL:https://ncejn.org
X-WR-CALDESC:Events for NCEJN
REFRESH-INTERVAL;VALUE=DURATION:PT1H
X-Robots-Tag:noindex
X-PUBLISHED-TTL:PT1H
BEGIN:VTIMEZONE
TZID:America/New_York
BEGIN:DAYLIGHT
TZOFFSETFROM:-0500
TZOFFSETTO:-0400
TZNAME:EDT
DTSTART:20240310T070000
END:DAYLIGHT
BEGIN:STANDARD
TZOFFSETFROM:-0400
TZOFFSETTO:-0500
TZNAME:EST
DTSTART:20241103T060000
END:STANDARD
BEGIN:DAYLIGHT
TZOFFSETFROM:-0500
TZOFFSETTO:-0400
TZNAME:EDT
DTSTART:20250309T070000
END:DAYLIGHT
BEGIN:STANDARD
TZOFFSETFROM:-0400
TZOFFSETTO:-0500
TZNAME:EST
DTSTART:20251102T060000
END:STANDARD
BEGIN:DAYLIGHT
TZOFFSETFROM:-0500
TZOFFSETTO:-0400
TZNAME:EDT
DTSTART:20260308T070000
END:DAYLIGHT
BEGIN:STANDARD
TZOFFSETFROM:-0400
TZOFFSETTO:-0500
TZNAME:EST
DTSTART:20261101T060000
END:STANDARD
END:VTIMEZONE
BEGIN:VEVENT
DTSTART;TZID=America/New_York:20250315T080000
DTEND;TZID=America/New_York:20250329T170000
DTSTAMP:20260424T004926
CREATED:20250219T211322Z
LAST-MODIFIED:20250219T211322Z
UID:5046-1742025600-1743267600@ncejn.org
SUMMARY:World Beyond War’s 5th Annual Virtual Film Festival
DESCRIPTION:Reserve your spot for World Beyond War’s 5th annual virtual film festival. March 15-March 29
URL:https://ncejn.org/event/world-beyond-wars-5th-annual-virtual-film-festival/
LOCATION:NC
CATEGORIES:Other Events
ATTACH;FMTTYPE=image/png:https://ncejn.org/wp-content/uploads/2025/02/WBW-film-fest-2025-v2-1536x864-1.png
END:VEVENT
BEGIN:VEVENT
DTSTART;TZID=America/New_York:20250320T080000
DTEND;TZID=America/New_York:20250329T170000
DTSTAMP:20260424T004926
CREATED:20250225T162911Z
LAST-MODIFIED:20250225T162911Z
UID:5134-1742457600-1743267600@ncejn.org
SUMMARY:Online Event: DC Environmental Film Festival 2025
DESCRIPTION:Event: DC Environmental Film Festival 2025\, March 20-29. The DCEFF website also offers free online showings of short films
URL:https://ncejn.org/event/online-event-dc-environmental-film-festival-2025/
LOCATION:NC
CATEGORIES:Other Events
END:VEVENT
BEGIN:VEVENT
DTSTART;TZID=America/New_York:20250320T150000
DTEND;TZID=America/New_York:20250320T163000
DTSTAMP:20260424T004926
CREATED:20250322T011413Z
LAST-MODIFIED:20250322T011413Z
UID:5474-1742482800-1742488200@ncejn.org
SUMMARY:Virtual: Silicon Valley\, Sacramento and Trump
DESCRIPTION:Register: Silicon Valley\, Sacramento and Trump Virtual. The technology industry and its key players have never wielded more influence—or had more at stake—in American policy and politics. Join POLITICO on Today\, March 20 • 3:00 PM\, for a bicoastal briefing on how Silicon Valley leaders are shaping policy debates in Washington and Sacramento—and how government officials are either advancing or obstructing their agenda
URL:https://ncejn.org/event/virtual-silicon-valley-sacramento-and-trump/
LOCATION:NC
CATEGORIES:Other Events
END:VEVENT
END:VCALENDAR