BEGIN:VCALENDAR
VERSION:2.0
PRODID:-//NCEJN - ECPv6.15.13.1//NONSGML v1.0//EN
CALSCALE:GREGORIAN
METHOD:PUBLISH
X-WR-CALNAME:NCEJN
X-ORIGINAL-URL:https://ncejn.org
X-WR-CALDESC:Events for NCEJN
REFRESH-INTERVAL;VALUE=DURATION:PT1H
X-Robots-Tag:noindex
X-PUBLISHED-TTL:PT1H
BEGIN:VTIMEZONE
TZID:America/New_York
BEGIN:DAYLIGHT
TZOFFSETFROM:-0500
TZOFFSETTO:-0400
TZNAME:EDT
DTSTART:20240310T070000
END:DAYLIGHT
BEGIN:STANDARD
TZOFFSETFROM:-0400
TZOFFSETTO:-0500
TZNAME:EST
DTSTART:20241103T060000
END:STANDARD
BEGIN:DAYLIGHT
TZOFFSETFROM:-0500
TZOFFSETTO:-0400
TZNAME:EDT
DTSTART:20250309T070000
END:DAYLIGHT
BEGIN:STANDARD
TZOFFSETFROM:-0400
TZOFFSETTO:-0500
TZNAME:EST
DTSTART:20251102T060000
END:STANDARD
BEGIN:DAYLIGHT
TZOFFSETFROM:-0500
TZOFFSETTO:-0400
TZNAME:EDT
DTSTART:20260308T070000
END:DAYLIGHT
BEGIN:STANDARD
TZOFFSETFROM:-0400
TZOFFSETTO:-0500
TZNAME:EST
DTSTART:20261101T060000
END:STANDARD
END:VTIMEZONE
BEGIN:VEVENT
DTSTART;TZID=America/New_York:20250403T080000
DTEND;TZID=America/New_York:20250403T170000
DTSTAMP:20260422T102459
CREATED:20250403T160234Z
LAST-MODIFIED:20250403T160234Z
UID:5619-1743667200-1743699600@ncejn.org
SUMMARY:Virtual: 'Palestinian Solidarity Activism: Students\, Faculty\, and Universities Under Attack’
DESCRIPTION:Michael Arria\, journalist with Mondoweiss\, author of “The Shift” column\, has extensive contacts with student movements\, enabling him to track the latest developments in U.S. pro-Palestine solidarity activism. Join us for a deep dive into the Trump administration’s authoritarian tactics\, criminalizing genocide dissent\, bullying universities\, ramping up arrests and deportations\, and what we can do.
URL:https://ncejn.org/event/virtual-palestinian-solidarity-activism-students-faculty-and-universities-under-attack/
LOCATION:NC
CATEGORIES:Other Events
END:VEVENT
BEGIN:VEVENT
DTSTART;TZID=America/New_York:20250403T190000
DTEND;TZID=America/New_York:20250403T210000
DTSTAMP:20260422T102459
CREATED:20250322T004651Z
LAST-MODIFIED:20250322T004651Z
UID:5471-1743706800-1743714000@ncejn.org
SUMMARY:Event: Project Esther Exposed: Censorship\, Repression and the Fight for Solidarity
DESCRIPTION:Event: Project Esther Exposed: Censorship\, Repression and the Fight for Solidarity. Thursday\, April 3 • 7:00 PM\, at FedEx Global Education Center RM 1005\, UNC\, 301 Pittsboro St\, Chapel Hill
URL:https://ncejn.org/event/event-project-esther-exposed-censorship-repression-and-the-fight-for-solidarity/
LOCATION:FedEx Global Education Center\, 301 Pittsboro Street\, Chapel Hill\, NC\, 27516\, United States
CATEGORIES:Other Events
END:VEVENT
BEGIN:VEVENT
DTSTART;TZID=America/New_York:20250403T190000
DTEND;TZID=America/New_York:20250404T190000
DTSTAMP:20260422T102459
CREATED:20250403T154414Z
LAST-MODIFIED:20250403T154414Z
UID:5612-1743706800-1743793200@ncejn.org
SUMMARY:Register: A Time to Break Silence - A Discussion on MLK's Legacy
DESCRIPTION:This event will feature partner organizations and offer a deep dive into Dr. King’s enduring legacy. We will explore how King’s legacy challenges us to face uncomfortable truths and how his message remains vital in the fight for justice\, both locally and globally. \nThroughout the event\, we’ll re-air some of Dr. King’s most powerful speeches\, examined through the lens of today’s ongoing national crises. As Dr. King wisely said\, “We still have a choice today: nonviolent coexistence or violent co-annihilation.” These words transcend their original context\, speaking to an eternal truth—that our destinies are bound together and that justice delayed anywhere is justice threatened everywhere. \nPlease note: Your confirmation email from Mobilize will include all the details you need to participate in this impactful online experience. \nWe hope you will join us in reflecting on Dr. King’s enduring legacy and the call to action his message continues to inspire today. \nQuestions? Contact DeMonte Alford at demonte@democracync.org.
URL:https://ncejn.org/event/register-a-time-to-break-silence-a-discussion-on-mlks-legacy/
LOCATION:NC
CATEGORIES:Other Events
END:VEVENT
END:VCALENDAR