BEGIN:VCALENDAR
VERSION:2.0
PRODID:-//NCEJN - ECPv6.15.13.1//NONSGML v1.0//EN
CALSCALE:GREGORIAN
METHOD:PUBLISH
X-ORIGINAL-URL:https://ncejn.org
X-WR-CALDESC:Events for NCEJN
REFRESH-INTERVAL;VALUE=DURATION:PT1H
X-Robots-Tag:noindex
X-PUBLISHED-TTL:PT1H
BEGIN:VTIMEZONE
TZID:America/New_York
BEGIN:DAYLIGHT
TZOFFSETFROM:-0500
TZOFFSETTO:-0400
TZNAME:EDT
DTSTART:20240310T070000
END:DAYLIGHT
BEGIN:STANDARD
TZOFFSETFROM:-0400
TZOFFSETTO:-0500
TZNAME:EST
DTSTART:20241103T060000
END:STANDARD
BEGIN:DAYLIGHT
TZOFFSETFROM:-0500
TZOFFSETTO:-0400
TZNAME:EDT
DTSTART:20250309T070000
END:DAYLIGHT
BEGIN:STANDARD
TZOFFSETFROM:-0400
TZOFFSETTO:-0500
TZNAME:EST
DTSTART:20251102T060000
END:STANDARD
BEGIN:DAYLIGHT
TZOFFSETFROM:-0500
TZOFFSETTO:-0400
TZNAME:EDT
DTSTART:20260308T070000
END:DAYLIGHT
BEGIN:STANDARD
TZOFFSETFROM:-0400
TZOFFSETTO:-0500
TZNAME:EST
DTSTART:20261101T060000
END:STANDARD
END:VTIMEZONE
BEGIN:VEVENT
DTSTART;VALUE=DATE:20250405
DTEND;VALUE=DATE:20250406
DTSTAMP:20260425T061454
CREATED:20250402T175201Z
LAST-MODIFIED:20250402T175201Z
UID:5578-1743811200-1743897599@ncejn.org
SUMMARY:In Person: Join the Bus to DC to Stop the Genocide!
DESCRIPTION:On Saturday April 5th\, we are standing up to Trump and his plan for Gaza\, we are standing up to repression\, we are standing up to the US’s continued facilitation of the genocide in Gaza. We demand a permanent ceasefire and an arms embargo now!\n\nBuses of people standing with the people of Palestine will be traveling from Raleigh\, NC to attend this national action. More details including the specific departure time and location will be communicated to registrants at a later date. We anticipate to ask everyone to arrive by 6:30 am for a 7:00 am departure from Islamic Association of Raleigh – IAR Masjid (808 Atwater St Raleigh\, NC  27607).
URL:https://ncejn.org/event/in-person-join-the-bus-to-dc-to-stop-the-genocide/
LOCATION:Islamic Association of Raleigh\, 808 Atwater St\, Raleigh\, NC\, 27607\, United States
CATEGORIES:Other Events
END:VEVENT
END:VCALENDAR