BEGIN:VCALENDAR
VERSION:2.0
PRODID:-//NCEJN - ECPv6.15.13.1//NONSGML v1.0//EN
CALSCALE:GREGORIAN
METHOD:PUBLISH
X-WR-CALNAME:NCEJN
X-ORIGINAL-URL:https://ncejn.org
X-WR-CALDESC:Events for NCEJN
REFRESH-INTERVAL;VALUE=DURATION:PT1H
X-Robots-Tag:noindex
X-PUBLISHED-TTL:PT1H
BEGIN:VTIMEZONE
TZID:America/New_York
BEGIN:DAYLIGHT
TZOFFSETFROM:-0500
TZOFFSETTO:-0400
TZNAME:EDT
DTSTART:20240310T070000
END:DAYLIGHT
BEGIN:STANDARD
TZOFFSETFROM:-0400
TZOFFSETTO:-0500
TZNAME:EST
DTSTART:20241103T060000
END:STANDARD
BEGIN:DAYLIGHT
TZOFFSETFROM:-0500
TZOFFSETTO:-0400
TZNAME:EDT
DTSTART:20250309T070000
END:DAYLIGHT
BEGIN:STANDARD
TZOFFSETFROM:-0400
TZOFFSETTO:-0500
TZNAME:EST
DTSTART:20251102T060000
END:STANDARD
BEGIN:DAYLIGHT
TZOFFSETFROM:-0500
TZOFFSETTO:-0400
TZNAME:EDT
DTSTART:20260308T070000
END:DAYLIGHT
BEGIN:STANDARD
TZOFFSETFROM:-0400
TZOFFSETTO:-0500
TZNAME:EST
DTSTART:20261101T060000
END:STANDARD
END:VTIMEZONE
BEGIN:VEVENT
DTSTART;TZID=America/New_York:20250408T150000
DTEND;TZID=America/New_York:20250408T180000
DTSTAMP:20260420T025229
CREATED:20250403T155737Z
LAST-MODIFIED:20250403T155737Z
UID:5616-1744124400-1744135200@ncejn.org
SUMMARY:Join the Call: "Kill the Cuts" Action on 4/8
DESCRIPTION:By cutting funds to lifesaving research and medical care\, the Trump administration is abandoning families who are suffering and costing taxpayers billions of dollars. These cuts are dangerous to our health\, and dangerous to our economy. \nOn Tuesday\, April 8th\, 2025 workers across the country are standing up and demanding NO cuts to education and life-saving research. Join the call by the local union chapters at NCSU (UE Local 150)\, UNC (UE Local 150) and Duke (SEIU local 27) to “confront key state and federal leaders\, including U.S. Senators Ted Budd and Thom Tillis. Letters and cards from the attendees of the rally will be sent to their offices\, showing widespread support for our cause.
URL:https://ncejn.org/event/join-the-call-kill-the-cuts-action-on-4-8/
LOCATION:Moore Square\, 201 S Blount St\, Raleigh\, NC\, 27601\, United States
CATEGORIES:Other Events
END:VEVENT
BEGIN:VEVENT
DTSTART;TZID=America/New_York:20250408T170000
DTEND;TZID=America/New_York:20250408T180000
DTSTAMP:20260420T025229
CREATED:20250408T214251Z
LAST-MODIFIED:20250408T214251Z
UID:5689-1744131600-1744135200@ncejn.org
SUMMARY:In Person: TransparUNCy Teach-In
DESCRIPTION:Event: Teach-In TONIGHT April 8 · 5-6 PM\, at the Student Union\, RM 3408\, 209 South Rd\, UNC-Chapel Hill
URL:https://ncejn.org/event/in-person-transparuncy-teach-in/
LOCATION:UNC Chapel Hill Student Union\, 209 South Rd\, Chapel Hill\, NC\, 27514\, United States
CATEGORIES:Other Events
END:VEVENT
END:VCALENDAR