BEGIN:VCALENDAR
VERSION:2.0
PRODID:-//NCEJN - ECPv6.15.13.1//NONSGML v1.0//EN
CALSCALE:GREGORIAN
METHOD:PUBLISH
X-ORIGINAL-URL:https://ncejn.org
X-WR-CALDESC:Events for NCEJN
REFRESH-INTERVAL;VALUE=DURATION:PT1H
X-Robots-Tag:noindex
X-PUBLISHED-TTL:PT1H
BEGIN:VTIMEZONE
TZID:America/New_York
BEGIN:DAYLIGHT
TZOFFSETFROM:-0500
TZOFFSETTO:-0400
TZNAME:EDT
DTSTART:20240310T070000
END:DAYLIGHT
BEGIN:STANDARD
TZOFFSETFROM:-0400
TZOFFSETTO:-0500
TZNAME:EST
DTSTART:20241103T060000
END:STANDARD
BEGIN:DAYLIGHT
TZOFFSETFROM:-0500
TZOFFSETTO:-0400
TZNAME:EDT
DTSTART:20250309T070000
END:DAYLIGHT
BEGIN:STANDARD
TZOFFSETFROM:-0400
TZOFFSETTO:-0500
TZNAME:EST
DTSTART:20251102T060000
END:STANDARD
BEGIN:DAYLIGHT
TZOFFSETFROM:-0500
TZOFFSETTO:-0400
TZNAME:EDT
DTSTART:20260308T070000
END:DAYLIGHT
BEGIN:STANDARD
TZOFFSETFROM:-0400
TZOFFSETTO:-0500
TZNAME:EST
DTSTART:20261101T060000
END:STANDARD
END:VTIMEZONE
BEGIN:VEVENT
DTSTART;TZID=America/New_York:20250414T190000
DTEND;TZID=America/New_York:20250414T203000
DTSTAMP:20260425T124355
CREATED:20250410T164623Z
LAST-MODIFIED:20250410T164623Z
UID:5712-1744657200-1744662600@ncejn.org
SUMMARY:Register: Black Panther Woman: The Political and Spiritual Life of Ericka Huggins
DESCRIPTION:Register: Join Zinn Education Project on Monday\, April 14 • 7 pm  for a discussion with the author on the book Black Panther Woman: The Political and Spiritual Life of Ericka Huggins. This is the first biography of Ericka Huggins\, a queer Black woman who brought spiritual self-care practices to the Black Panther Party
URL:https://ncejn.org/event/register-black-panther-woman-the-political-and-spiritual-life-of-ericka-huggins/
LOCATION:NC
CATEGORIES:Other Events
END:VEVENT
END:VCALENDAR