BEGIN:VCALENDAR
VERSION:2.0
PRODID:-//NCEJN - ECPv6.15.13.1//NONSGML v1.0//EN
CALSCALE:GREGORIAN
METHOD:PUBLISH
X-ORIGINAL-URL:https://ncejn.org
X-WR-CALDESC:Events for NCEJN
REFRESH-INTERVAL;VALUE=DURATION:PT1H
X-Robots-Tag:noindex
X-PUBLISHED-TTL:PT1H
BEGIN:VTIMEZONE
TZID:America/New_York
BEGIN:DAYLIGHT
TZOFFSETFROM:-0500
TZOFFSETTO:-0400
TZNAME:EDT
DTSTART:20240310T070000
END:DAYLIGHT
BEGIN:STANDARD
TZOFFSETFROM:-0400
TZOFFSETTO:-0500
TZNAME:EST
DTSTART:20241103T060000
END:STANDARD
BEGIN:DAYLIGHT
TZOFFSETFROM:-0500
TZOFFSETTO:-0400
TZNAME:EDT
DTSTART:20250309T070000
END:DAYLIGHT
BEGIN:STANDARD
TZOFFSETFROM:-0400
TZOFFSETTO:-0500
TZNAME:EST
DTSTART:20251102T060000
END:STANDARD
BEGIN:DAYLIGHT
TZOFFSETFROM:-0500
TZOFFSETTO:-0400
TZNAME:EDT
DTSTART:20260308T070000
END:DAYLIGHT
BEGIN:STANDARD
TZOFFSETFROM:-0400
TZOFFSETTO:-0500
TZNAME:EST
DTSTART:20261101T060000
END:STANDARD
END:VTIMEZONE
BEGIN:VEVENT
DTSTART;TZID=America/New_York:20250507T180000
DTEND;TZID=America/New_York:20250507T190000
DTSTAMP:20260423T183727
CREATED:20250506T163208Z
LAST-MODIFIED:20250506T163307Z
UID:5836-1746640800-1746644400@ncejn.org
SUMMARY:In-Person: Durham Rising Town Hall
DESCRIPTION:Join Duke Respect Durham for the Durham Rising Town Hall. May 7 • 6 PM at the Lyon Park Community Center (1309 Halley St\, Durham). RSVP \nDuke Respect Durham has built a broad-based coalition of over 25 local organizations calling on Duke to pay their fair share as more equitable neighbors and democratic partners through a payment-in-lieu of taxes (PILOT) agreement. Duke Respect Durham is evolving into Durham Rising: a powerful coalition the Union of Southern Service Workers (USSW)\, Durham Association of Educators (DAE)\, Duke Graduate Students Union (DGSU)\, UE 150\, Siembra\, Durham for All\, and NC Triangle Democratic Socialists of America (NCTDSA). Join them at the Town Hall Meeting.
URL:https://ncejn.org/event/in-person-durham-rising-town-hall/
LOCATION:Lyon Park Community Center\, 1309 Halley St\, Durham\, NC\, United States
CATEGORIES:Other Events
END:VEVENT
END:VCALENDAR