BEGIN:VCALENDAR
VERSION:2.0
PRODID:-//NCEJN - ECPv6.15.13.1//NONSGML v1.0//EN
CALSCALE:GREGORIAN
METHOD:PUBLISH
X-ORIGINAL-URL:https://ncejn.org
X-WR-CALDESC:Events for NCEJN
REFRESH-INTERVAL;VALUE=DURATION:PT1H
X-Robots-Tag:noindex
X-PUBLISHED-TTL:PT1H
BEGIN:VTIMEZONE
TZID:America/New_York
BEGIN:DAYLIGHT
TZOFFSETFROM:-0500
TZOFFSETTO:-0400
TZNAME:EDT
DTSTART:20240310T070000
END:DAYLIGHT
BEGIN:STANDARD
TZOFFSETFROM:-0400
TZOFFSETTO:-0500
TZNAME:EST
DTSTART:20241103T060000
END:STANDARD
BEGIN:DAYLIGHT
TZOFFSETFROM:-0500
TZOFFSETTO:-0400
TZNAME:EDT
DTSTART:20250309T070000
END:DAYLIGHT
BEGIN:STANDARD
TZOFFSETFROM:-0400
TZOFFSETTO:-0500
TZNAME:EST
DTSTART:20251102T060000
END:STANDARD
BEGIN:DAYLIGHT
TZOFFSETFROM:-0500
TZOFFSETTO:-0400
TZNAME:EDT
DTSTART:20260308T070000
END:DAYLIGHT
BEGIN:STANDARD
TZOFFSETFROM:-0400
TZOFFSETTO:-0500
TZNAME:EST
DTSTART:20261101T060000
END:STANDARD
END:VTIMEZONE
BEGIN:VEVENT
DTSTART;TZID=America/New_York:20250521T100000
DTEND;TZID=America/New_York:20250521T130000
DTSTAMP:20260421T203401
CREATED:20250515T185008Z
LAST-MODIFIED:20250515T185008Z
UID:5880-1747821600-1747832400@ncejn.org
SUMMARY:In-Person: Immigration Rights Advocacy Day
DESCRIPTION:Event: Immigrant rights Advocacy Day. As part of Immigrant Rights Advocacy Week\, a coalition of NC groups is hosting an advocacy day on Wednesday May 21 • 10:00 AM-1:00 PM at the North Carolina General Assembly\, 16 West Jones St. Raleigh\, NC. Join and attend a press conference\, drop info off to legislators\, and deliver a letter to Governor Stein urging him to veto all anti-immigrant legislation to build a safer future for all of us
URL:https://ncejn.org/event/in-person-immigration-rights-advocacy-day/
LOCATION:North Carolina General Assembly\, 16 W Jones St\,\, Raleigh\, NC\, 27601\, United States
CATEGORIES:Other Events
END:VEVENT
BEGIN:VEVENT
DTSTART;TZID=America/New_York:20250521T173000
DTEND;TZID=America/New_York:20250521T203000
DTSTAMP:20260421T203401
CREATED:20250506T163719Z
LAST-MODIFIED:20250506T163719Z
UID:5842-1747848600-1747859400@ncejn.org
SUMMARY:In-Person: Green Tie Awards hosted by NC League of Conservation Voters
DESCRIPTION:Join NC League of Conservation Voters at the Green Tie Awards. Wednesday\, May 21 • 5:30-8:30 PM (Merrimon-Wynne House 500 N. Blount St.\, Raleigh\, North Carolina 27604)
URL:https://ncejn.org/event/in-person-green-tie-awards-hosted-by-nc-league-of-conservation-voters/
LOCATION:Merrimon-Wynne House\, 500 N. Blount St\, Raleigh\, NC\, 27604\, United States
CATEGORIES:Other Events
END:VEVENT
END:VCALENDAR