BEGIN:VCALENDAR
VERSION:2.0
PRODID:-//NCEJN - ECPv6.15.13.1//NONSGML v1.0//EN
CALSCALE:GREGORIAN
METHOD:PUBLISH
X-WR-CALNAME:NCEJN
X-ORIGINAL-URL:https://ncejn.org
X-WR-CALDESC:Events for NCEJN
REFRESH-INTERVAL;VALUE=DURATION:PT1H
X-Robots-Tag:noindex
X-PUBLISHED-TTL:PT1H
BEGIN:VTIMEZONE
TZID:America/New_York
BEGIN:DAYLIGHT
TZOFFSETFROM:-0500
TZOFFSETTO:-0400
TZNAME:EDT
DTSTART:20240310T070000
END:DAYLIGHT
BEGIN:STANDARD
TZOFFSETFROM:-0400
TZOFFSETTO:-0500
TZNAME:EST
DTSTART:20241103T060000
END:STANDARD
BEGIN:DAYLIGHT
TZOFFSETFROM:-0500
TZOFFSETTO:-0400
TZNAME:EDT
DTSTART:20250309T070000
END:DAYLIGHT
BEGIN:STANDARD
TZOFFSETFROM:-0400
TZOFFSETTO:-0500
TZNAME:EST
DTSTART:20251102T060000
END:STANDARD
BEGIN:DAYLIGHT
TZOFFSETFROM:-0500
TZOFFSETTO:-0400
TZNAME:EDT
DTSTART:20260308T070000
END:DAYLIGHT
BEGIN:STANDARD
TZOFFSETFROM:-0400
TZOFFSETTO:-0500
TZNAME:EST
DTSTART:20261101T060000
END:STANDARD
END:VTIMEZONE
BEGIN:VEVENT
DTSTART;TZID=America/New_York:20250729T140000
DTEND;TZID=America/New_York:20250729T180000
DTSTAMP:20260421T015158
CREATED:20250617T190357Z
LAST-MODIFIED:20250617T190357Z
UID:6105-1753797600-1753812000@ncejn.org
SUMMARY:In-Person Art Exhibit: Against the Machine
DESCRIPTION:Against the Machine: An art exhibition exploring the role of the artist in the age of generative AI\, fascism and climate disaster.  Open Hours:  Tuesdays June 17 & June 24  • 11:00 am – 3:00 pm.And  Tuesdays in July • 2:00 – 6:00 pm. 1809 Chapel Hill Road\, Durham.
URL:https://ncejn.org/event/in-person-art-exhibit-against-the-machine-7/
LOCATION:1809 Chapel Hill Road\, 1809 Chapel Hill Road\, Durham\, NC\, 27707\, United States
CATEGORIES:Other Events
END:VEVENT
BEGIN:VEVENT
DTSTART;TZID=America/New_York:20250729T180000
DTEND;TZID=America/New_York:20250729T190000
DTSTAMP:20260421T015158
CREATED:20250730T190630Z
LAST-MODIFIED:20250730T190630Z
UID:6360-1753812000-1753815600@ncejn.org
SUMMARY:Webinar: Seeds of Hope: Community-Powered Change w/ SRAP
DESCRIPTION:Webinar: Socially Responsible Agriculture Project (SRAP) invites you to Seeds of Hope: Community-Powered Change to hear real stories of change and progress led by community members like you. Today\, July 29 • 06:00 PM
URL:https://ncejn.org/event/webinar-seeds-of-hope-community-powered-change-w-srap/
LOCATION:NC
CATEGORIES:Other Events
END:VEVENT
BEGIN:VEVENT
DTSTART;TZID=America/New_York:20250729T180000
DTEND;TZID=America/New_York:20250729T193000
DTSTAMP:20260421T015158
CREATED:20250725T160516Z
LAST-MODIFIED:20250725T181631Z
UID:6335-1753812000-1753817400@ncejn.org
SUMMARY:Meeting: Orange & Surrounding Counties w/ Haw River Assembly
DESCRIPTION:Meeting: Orange & surrounding counties: the Haw River Assembly invites you to hold space together and process about Tropical Storm Chantal. Tuesday\, July 29 • 6:00 PM at the Community Church of Chapel Hill Unitarian Universalist.
URL:https://ncejn.org/event/meeting-orange-surrounding-counties-w-haw-river-assembly/
LOCATION:Community Church of Chapel Hill\, 106 Purefoy Rd\, Chapel Hill\, NC\, United States
CATEGORIES:Other Events
END:VEVENT
END:VCALENDAR