BEGIN:VCALENDAR
VERSION:2.0
PRODID:-//NCEJN - ECPv6.15.13.1//NONSGML v1.0//EN
CALSCALE:GREGORIAN
METHOD:PUBLISH
X-ORIGINAL-URL:https://ncejn.org
X-WR-CALDESC:Events for NCEJN
REFRESH-INTERVAL;VALUE=DURATION:PT1H
X-Robots-Tag:noindex
X-PUBLISHED-TTL:PT1H
BEGIN:VTIMEZONE
TZID:America/New_York
BEGIN:DAYLIGHT
TZOFFSETFROM:-0500
TZOFFSETTO:-0400
TZNAME:EDT
DTSTART:20240310T070000
END:DAYLIGHT
BEGIN:STANDARD
TZOFFSETFROM:-0400
TZOFFSETTO:-0500
TZNAME:EST
DTSTART:20241103T060000
END:STANDARD
BEGIN:DAYLIGHT
TZOFFSETFROM:-0500
TZOFFSETTO:-0400
TZNAME:EDT
DTSTART:20250309T070000
END:DAYLIGHT
BEGIN:STANDARD
TZOFFSETFROM:-0400
TZOFFSETTO:-0500
TZNAME:EST
DTSTART:20251102T060000
END:STANDARD
BEGIN:DAYLIGHT
TZOFFSETFROM:-0500
TZOFFSETTO:-0400
TZNAME:EDT
DTSTART:20260308T070000
END:DAYLIGHT
BEGIN:STANDARD
TZOFFSETFROM:-0400
TZOFFSETTO:-0500
TZNAME:EST
DTSTART:20261101T060000
END:STANDARD
END:VTIMEZONE
BEGIN:VEVENT
DTSTART;TZID=America/New_York:20250403T080000
DTEND;TZID=America/New_York:20250403T170000
DTSTAMP:20260424T122902
CREATED:20250403T160234Z
LAST-MODIFIED:20250403T160234Z
UID:5619-1743667200-1743699600@ncejn.org
SUMMARY:Virtual: 'Palestinian Solidarity Activism: Students\, Faculty\, and Universities Under Attack’
DESCRIPTION:Michael Arria\, journalist with Mondoweiss\, author of “The Shift” column\, has extensive contacts with student movements\, enabling him to track the latest developments in U.S. pro-Palestine solidarity activism. Join us for a deep dive into the Trump administration’s authoritarian tactics\, criminalizing genocide dissent\, bullying universities\, ramping up arrests and deportations\, and what we can do.
URL:https://ncejn.org/event/virtual-palestinian-solidarity-activism-students-faculty-and-universities-under-attack/
CATEGORIES:Other Events
END:VEVENT
END:VCALENDAR