BEGIN:VCALENDAR
VERSION:2.0
PRODID:-//NCEJN - ECPv6.15.13.1//NONSGML v1.0//EN
CALSCALE:GREGORIAN
METHOD:PUBLISH
X-ORIGINAL-URL:https://ncejn.org
X-WR-CALDESC:Events for NCEJN
REFRESH-INTERVAL;VALUE=DURATION:PT1H
X-Robots-Tag:noindex
X-PUBLISHED-TTL:PT1H
BEGIN:VTIMEZONE
TZID:America/New_York
BEGIN:DAYLIGHT
TZOFFSETFROM:-0500
TZOFFSETTO:-0400
TZNAME:EDT
DTSTART:20240310T070000
END:DAYLIGHT
BEGIN:STANDARD
TZOFFSETFROM:-0400
TZOFFSETTO:-0500
TZNAME:EST
DTSTART:20241103T060000
END:STANDARD
BEGIN:DAYLIGHT
TZOFFSETFROM:-0500
TZOFFSETTO:-0400
TZNAME:EDT
DTSTART:20250309T070000
END:DAYLIGHT
BEGIN:STANDARD
TZOFFSETFROM:-0400
TZOFFSETTO:-0500
TZNAME:EST
DTSTART:20251102T060000
END:STANDARD
BEGIN:DAYLIGHT
TZOFFSETFROM:-0500
TZOFFSETTO:-0400
TZNAME:EDT
DTSTART:20260308T070000
END:DAYLIGHT
BEGIN:STANDARD
TZOFFSETFROM:-0400
TZOFFSETTO:-0500
TZNAME:EST
DTSTART:20261101T060000
END:STANDARD
END:VTIMEZONE
BEGIN:VEVENT
DTSTART;TZID=America/New_York:20250421T130000
DTEND;TZID=America/New_York:20250421T143000
DTSTAMP:20260421T102312
CREATED:20250403T160919Z
LAST-MODIFIED:20250403T160919Z
UID:5623-1745240400-1745245800@ncejn.org
SUMMARY:Register: 'On the Frontlines: Physician Perspectives on the Gazan Healthcare Crisis'
DESCRIPTION:From the organizers: \nPlease join us for On the Frontlines: Physician Perspectives on the Gazan Healthcare Crisis — a panel discussion of experienced physician advocates exploring the realities of healthcare delivery in Gaza. Hear firsthand from physicians who have witnessed the crisis\, advocated in their workplaces\, and navigated the transition from American to Gazan healthcare. Gain insight into their experiences abroad\, the personal and professional impact of their work\, and advice for aspiring healthcare professionals. \nDate: Monday\, April 21 | Time: 1:00 PM – 2:30 PM\nLocation: Trent Semans Center for Health Education\, Great Hall \nRSVP below to attend by 4/17. Lunch will be provided to the first 50 attendees.
URL:https://ncejn.org/event/register-on-the-frontlines-physician-perspectives-on-the-gazan-healthcare-crisis/
LOCATION:Trent Semans Center for Health Education\, 8 Searle Center Dr\, Durham\, NC\, 27710\, United States
CATEGORIES:Other Events
END:VEVENT
END:VCALENDAR