BEGIN:VCALENDAR
VERSION:2.0
PRODID:-//NCEJN - ECPv6.15.13.1//NONSGML v1.0//EN
CALSCALE:GREGORIAN
METHOD:PUBLISH
X-ORIGINAL-URL:https://ncejn.org
X-WR-CALDESC:Events for NCEJN
REFRESH-INTERVAL;VALUE=DURATION:PT1H
X-Robots-Tag:noindex
X-PUBLISHED-TTL:PT1H
BEGIN:VTIMEZONE
TZID:America/New_York
BEGIN:DAYLIGHT
TZOFFSETFROM:-0500
TZOFFSETTO:-0400
TZNAME:EDT
DTSTART:20240310T070000
END:DAYLIGHT
BEGIN:STANDARD
TZOFFSETFROM:-0400
TZOFFSETTO:-0500
TZNAME:EST
DTSTART:20241103T060000
END:STANDARD
BEGIN:DAYLIGHT
TZOFFSETFROM:-0500
TZOFFSETTO:-0400
TZNAME:EDT
DTSTART:20250309T070000
END:DAYLIGHT
BEGIN:STANDARD
TZOFFSETFROM:-0400
TZOFFSETTO:-0500
TZNAME:EST
DTSTART:20251102T060000
END:STANDARD
BEGIN:DAYLIGHT
TZOFFSETFROM:-0500
TZOFFSETTO:-0400
TZNAME:EDT
DTSTART:20260308T070000
END:DAYLIGHT
BEGIN:STANDARD
TZOFFSETFROM:-0400
TZOFFSETTO:-0500
TZNAME:EST
DTSTART:20261101T060000
END:STANDARD
END:VTIMEZONE
BEGIN:VEVENT
DTSTART;TZID=America/New_York:20250426T110000
DTEND;TZID=America/New_York:20250426T200000
DTSTAMP:20260422T075935
CREATED:20250408T220350Z
LAST-MODIFIED:20250408T220350Z
UID:5699-1745665200-1745697600@ncejn.org
SUMMARY:Register: Watermelon 5K Fest & Fundraiser for Palestine
DESCRIPTION:Register for a 5K Walk/Run fundraiser A community led walk/run and cultural event supporting displaced Palestinian students. Saturday April 26. Race starts at 11 am\, Kids run for free!  Culture Fest starts at 12 pm. WakeMed Soccer Park\, 101 Soccer Park Dr. Cary  — Price increases  Today April 8\, at 4 pm
URL:https://ncejn.org/event/register-watermelon-5k-fest-fundraiser-for-palestine/
LOCATION:WakeMed Soccer Park\, 101 Soccer Park Dr\, Cary\, NC\, 27511\, United States
CATEGORIES:Other Events
END:VEVENT
END:VCALENDAR