BEGIN:VCALENDAR
VERSION:2.0
PRODID:-//NCEJN - ECPv6.15.13.1//NONSGML v1.0//EN
CALSCALE:GREGORIAN
METHOD:PUBLISH
X-ORIGINAL-URL:https://ncejn.org
X-WR-CALDESC:Events for NCEJN
REFRESH-INTERVAL;VALUE=DURATION:PT1H
X-Robots-Tag:noindex
X-PUBLISHED-TTL:PT1H
BEGIN:VTIMEZONE
TZID:America/New_York
BEGIN:DAYLIGHT
TZOFFSETFROM:-0500
TZOFFSETTO:-0400
TZNAME:EDT
DTSTART:20240310T070000
END:DAYLIGHT
BEGIN:STANDARD
TZOFFSETFROM:-0400
TZOFFSETTO:-0500
TZNAME:EST
DTSTART:20241103T060000
END:STANDARD
BEGIN:DAYLIGHT
TZOFFSETFROM:-0500
TZOFFSETTO:-0400
TZNAME:EDT
DTSTART:20250309T070000
END:DAYLIGHT
BEGIN:STANDARD
TZOFFSETFROM:-0400
TZOFFSETTO:-0500
TZNAME:EST
DTSTART:20251102T060000
END:STANDARD
BEGIN:DAYLIGHT
TZOFFSETFROM:-0500
TZOFFSETTO:-0400
TZNAME:EDT
DTSTART:20260308T070000
END:DAYLIGHT
BEGIN:STANDARD
TZOFFSETFROM:-0400
TZOFFSETTO:-0500
TZNAME:EST
DTSTART:20261101T060000
END:STANDARD
END:VTIMEZONE
BEGIN:VEVENT
DTSTART;TZID=America/New_York:20250531T090000
DTEND;TZID=America/New_York:20250531T180000
DTSTAMP:20260419T141058
CREATED:20250529T202217Z
LAST-MODIFIED:20250529T202217Z
UID:6013-1748682000-1748714400@ncejn.org
SUMMARY:Webinar: Philadelphia People's Tribunal on War Crimes and Genocide in Gaza
DESCRIPTION:Webinar: Philadelphia People’s Tribunal on War Crimes and Genocide in Gaza. A team of human rights attorneys representing the people of Philadelphia\, PA will make the case that the United States\, Pennsylvania\, and Philadelphia Governments are accountable for war crimes & genocide in Gaza. Saturday\, May 31 • 9:00 AM—6:00 PM
URL:https://ncejn.org/event/webinar-philadelphia-peoples-tribunal-on-war-crimes-and-genocide-in-gaza/
CATEGORIES:Other Events
END:VEVENT
END:VCALENDAR