BEGIN:VCALENDAR
VERSION:2.0
PRODID:-//NCEJN - ECPv6.15.13.1//NONSGML v1.0//EN
CALSCALE:GREGORIAN
METHOD:PUBLISH
X-WR-CALNAME:NCEJN
X-ORIGINAL-URL:https://ncejn.org
X-WR-CALDESC:Events for NCEJN
REFRESH-INTERVAL;VALUE=DURATION:PT1H
X-Robots-Tag:noindex
X-PUBLISHED-TTL:PT1H
BEGIN:VTIMEZONE
TZID:America/New_York
BEGIN:DAYLIGHT
TZOFFSETFROM:-0500
TZOFFSETTO:-0400
TZNAME:EDT
DTSTART:20240310T070000
END:DAYLIGHT
BEGIN:STANDARD
TZOFFSETFROM:-0400
TZOFFSETTO:-0500
TZNAME:EST
DTSTART:20241103T060000
END:STANDARD
BEGIN:DAYLIGHT
TZOFFSETFROM:-0500
TZOFFSETTO:-0400
TZNAME:EDT
DTSTART:20250309T070000
END:DAYLIGHT
BEGIN:STANDARD
TZOFFSETFROM:-0400
TZOFFSETTO:-0500
TZNAME:EST
DTSTART:20251102T060000
END:STANDARD
BEGIN:DAYLIGHT
TZOFFSETFROM:-0500
TZOFFSETTO:-0400
TZNAME:EDT
DTSTART:20260308T070000
END:DAYLIGHT
BEGIN:STANDARD
TZOFFSETFROM:-0400
TZOFFSETTO:-0500
TZNAME:EST
DTSTART:20261101T060000
END:STANDARD
END:VTIMEZONE
BEGIN:VEVENT
DTSTART;TZID=America/New_York:20250323T130000
DTEND;TZID=America/New_York:20250323T150000
DTSTAMP:20260421T124618
CREATED:20250312T202432Z
LAST-MODIFIED:20250312T202432Z
UID:5375-1742734800-1742742000@ncejn.org
SUMMARY:Rally to Save the US Postal Service
DESCRIPTION:Rally to Save the US Postal Service\, Sunday\, March 23 • 1 PM\, 211 W. Parrish Street\, Durham (by the Bull)
URL:https://ncejn.org/event/rally-to-save-the-us-postal-service/
LOCATION:“Major” – Durham Bull Bronze Sculpture\, 211 W. Parrish Street\, Durham\, NC\, 27701\, United States
CATEGORIES:Environmental Justice Event
ATTACH;FMTTYPE=image/jpeg:https://ncejn.org/wp-content/uploads/2025/03/e7dfb37d-6e65-98bb-6d67-fa884b24bbc5.jpg
END:VEVENT
END:VCALENDAR