BEGIN:VCALENDAR
VERSION:2.0
PRODID:-//NCEJN - ECPv6.15.13.1//NONSGML v1.0//EN
CALSCALE:GREGORIAN
METHOD:PUBLISH
X-ORIGINAL-URL:https://ncejn.org
X-WR-CALDESC:Events for NCEJN
REFRESH-INTERVAL;VALUE=DURATION:PT1H
X-Robots-Tag:noindex
X-PUBLISHED-TTL:PT1H
BEGIN:VTIMEZONE
TZID:America/New_York
BEGIN:DAYLIGHT
TZOFFSETFROM:-0500
TZOFFSETTO:-0400
TZNAME:EDT
DTSTART:20240310T070000
END:DAYLIGHT
BEGIN:STANDARD
TZOFFSETFROM:-0400
TZOFFSETTO:-0500
TZNAME:EST
DTSTART:20241103T060000
END:STANDARD
BEGIN:DAYLIGHT
TZOFFSETFROM:-0500
TZOFFSETTO:-0400
TZNAME:EDT
DTSTART:20250309T070000
END:DAYLIGHT
BEGIN:STANDARD
TZOFFSETFROM:-0400
TZOFFSETTO:-0500
TZNAME:EST
DTSTART:20251102T060000
END:STANDARD
BEGIN:DAYLIGHT
TZOFFSETFROM:-0500
TZOFFSETTO:-0400
TZNAME:EDT
DTSTART:20260308T070000
END:DAYLIGHT
BEGIN:STANDARD
TZOFFSETFROM:-0400
TZOFFSETTO:-0500
TZNAME:EST
DTSTART:20261101T060000
END:STANDARD
END:VTIMEZONE
BEGIN:VEVENT
DTSTART;TZID=America/New_York:20250708T200000
DTEND;TZID=America/New_York:20250708T210000
DTSTAMP:20260424T041354
CREATED:20250705T163447Z
LAST-MODIFIED:20250705T163511Z
UID:6192-1752004800-1752008400@ncejn.org
SUMMARY:Webinar Training: Climate Activists for Wells Fargo United Training
DESCRIPTION:Webinar Training: Climate Activists for Wells Fargo United Training. Wells Fargo dropped its climate targets — an irresponsible move that will have devastating effects on our climate and communities. Show Wells Fargo that there are consequences for dropping its targets by teaming up with the union. Come to this training to receive everything you need to spread union literature at a Wells Fargo branch near you. Tuesday\, July 8 • 8:00 PM
URL:https://ncejn.org/event/webinar-training-climate-activists-for-wells-fargo-united-training/
LOCATION:NC
CATEGORIES:Other Events
END:VEVENT
BEGIN:VEVENT
DTSTART;TZID=America/New_York:20250710T200000
DTEND;TZID=America/New_York:20250710T210000
DTSTAMP:20260424T041354
CREATED:20250710T181640Z
LAST-MODIFIED:20250710T181713Z
UID:6232-1752177600-1752181200@ncejn.org
SUMMARY:Training w/ Siembra NC: Moving your City and County to Support Immigrants
DESCRIPTION:Training with Siembra NC: Moving your City and County to Support Immigrants. Even as the federal government attempts to go after communities that defend immigrants\, we know that there’s plenty our cities and counties can do to protect immigrant families\, workers\, and everyone else in our communities. Join a virtual training on Thursday\, July 10 • 8 PM to talk more about what is possible locally. See the toolkit at tiny.cc/citycountytoolkit with resources and strategies to start making changes in your city and county to support immigrants.
URL:https://ncejn.org/event/training-w-siembra-nc-moving-your-city-and-county-to-support-immigrants/
LOCATION:NC
CATEGORIES:Other Events
END:VEVENT
BEGIN:VEVENT
DTSTART;TZID=America/New_York:20250722T180000
DTEND;TZID=America/New_York:20250722T203000
DTSTAMP:20260424T041354
CREATED:20250701T180208Z
LAST-MODIFIED:20250701T181125Z
UID:6177-1753207200-1753216200@ncejn.org
SUMMARY:Reclamation FARMacy neighborhood outreach
DESCRIPTION:Register: Reclamation FARMacy neighborhood outreach \nThey are hosting a class for 15 BIPOC families in the neighborhood surrounding their community garden to teach how to grow food in their own backyard.  Tuesday\, July 22 • 6:00—8:00 PM\,  Raleigh NC 27610
URL:https://ncejn.org/event/reclamation-farmacy-neighborhood-outreach/
LOCATION:Ralph Campbell Community Center in Apollo Heights Park\, 756 Lunar Dr\, Raleigh\, NC\, 27610\, United States
CATEGORIES:Other Events
ATTACH;FMTTYPE=image/png:https://ncejn.org/wp-content/uploads/2025/07/Screenshot-2025-07-01-140133.png
END:VEVENT
BEGIN:VEVENT
DTSTART;TZID=America/New_York:20250727T130000
DTEND;TZID=America/New_York:20250727T170000
DTSTAMP:20260424T041354
CREATED:20250725T151234Z
LAST-MODIFIED:20250725T151234Z
UID:6314-1753621200-1753635600@ncejn.org
SUMMARY:Drivers Needed: Health and Safety Meeting and Training
DESCRIPTION:Help Out: Drivers needed for It’s Our Future’s health and safety committee meeting and training.  Over 2 dozen workers will come together and receive training on CPR and first aid on Sunday\, July 27th • 1:00—5:00 PM. Most farmworkers live on their employers’ property in remote areas and have no transportation.They’ll need around 20 drivers to commit half a day.  Meet at St. Ann’s Catholic Church\, 4057 US-70 BUS\, Clayton\, NC. Any questions\, email Melissa Harrison
URL:https://ncejn.org/event/drivers-needed-health-and-safety-meeting-and-training/
LOCATION:St. Ann’s Catholic Church\, 4057 US-70 BUS\, Clayton\, NC\, United States
CATEGORIES:Other Events
END:VEVENT
END:VCALENDAR