BEGIN:VCALENDAR
VERSION:2.0
PRODID:-//NCEJN - ECPv6.15.13.1//NONSGML v1.0//EN
CALSCALE:GREGORIAN
METHOD:PUBLISH
X-WR-CALNAME:NCEJN
X-ORIGINAL-URL:https://ncejn.org
X-WR-CALDESC:Events for NCEJN
REFRESH-INTERVAL;VALUE=DURATION:PT1H
X-Robots-Tag:noindex
X-PUBLISHED-TTL:PT1H
BEGIN:VTIMEZONE
TZID:America/New_York
BEGIN:DAYLIGHT
TZOFFSETFROM:-0500
TZOFFSETTO:-0400
TZNAME:EDT
DTSTART:20240310T070000
END:DAYLIGHT
BEGIN:STANDARD
TZOFFSETFROM:-0400
TZOFFSETTO:-0500
TZNAME:EST
DTSTART:20241103T060000
END:STANDARD
BEGIN:DAYLIGHT
TZOFFSETFROM:-0500
TZOFFSETTO:-0400
TZNAME:EDT
DTSTART:20250309T070000
END:DAYLIGHT
BEGIN:STANDARD
TZOFFSETFROM:-0400
TZOFFSETTO:-0500
TZNAME:EST
DTSTART:20251102T060000
END:STANDARD
BEGIN:DAYLIGHT
TZOFFSETFROM:-0500
TZOFFSETTO:-0400
TZNAME:EDT
DTSTART:20260308T070000
END:DAYLIGHT
BEGIN:STANDARD
TZOFFSETFROM:-0400
TZOFFSETTO:-0500
TZNAME:EST
DTSTART:20261101T060000
END:STANDARD
END:VTIMEZONE
BEGIN:VEVENT
DTSTART;TZID=America/New_York:20250512T130000
DTEND;TZID=America/New_York:20250512T140000
DTSTAMP:20260425T164419
CREATED:20250502T172859Z
LAST-MODIFIED:20250502T172859Z
UID:5799-1747054800-1747058400@ncejn.org
SUMMARY:Virtual: "Funding the Future: What's Next for Local Climate Solutions?" hosted by GRIST & SELC
DESCRIPTION:Register for a virtual event digging into how climate solutions are being funded at the federal\, state\, and municipal levels. Join Funding the future: What’s next for local climate solutions? Monday\, May 12 • 1 PM. This event is hosted by Grist and SELC
URL:https://ncejn.org/event/virtual-funding-the-future-whats-next-for-local-climate-solutions-hosted-by-grist-selc/
CATEGORIES:Environmental Justice Event
END:VEVENT
BEGIN:VEVENT
DTSTART;TZID=America/New_York:20250513T200000
DTEND;TZID=America/New_York:20250513T213000
DTSTAMP:20260425T164419
CREATED:20250512T202232Z
LAST-MODIFIED:20250512T202232Z
UID:5853-1747166400-1747171800@ncejn.org
SUMMARY:Virtual: Action Corps on Reclaiming Power over Matters of War and Peace
DESCRIPTION:Join Action Corps for an online event in reclaiming power over matters of war and peace.  Tuesday\, May 13 • 8:00 – 9:30 PM.
URL:https://ncejn.org/event/virtual-action-corps-on-reclaiming-power-over-matters-of-war-and-peace/
CATEGORIES:Other Events
END:VEVENT
BEGIN:VEVENT
DTSTART;TZID=America/New_York:20250515T120000
DTEND;TZID=America/New_York:20250515T130000
DTSTAMP:20260425T164419
CREATED:20250515T183655Z
LAST-MODIFIED:20250515T183655Z
UID:5872-1747310400-1747314000@ncejn.org
SUMMARY:Virtual: Holler from the Hollers w/ Appalachian Voices
DESCRIPTION:Event: Holler from the Hollers zoom event with Appalachian Voices to oppose a massive spending and tax bill that will cut access to healthcare for millions of people and eliminate clean energy programs. Join on Thursday May 15 • 12:00 PM to hear what is at risk and how you can help by calling your legislators’ offices
URL:https://ncejn.org/event/virtual-holler-from-the-hollers-w-appalachian-voices/
CATEGORIES:Other Events
END:VEVENT
BEGIN:VEVENT
DTSTART;TZID=America/New_York:20250528T190000
DTEND;TZID=America/New_York:20250528T200000
DTSTAMP:20260425T164419
CREATED:20250528T144333Z
LAST-MODIFIED:20250528T144333Z
UID:5992-1748458800-1748462400@ncejn.org
SUMMARY:Workshop: "Immigration Justice must be a Climate Fight\, Too" Pt. 2
DESCRIPTION:Join Stop The Money Pipeline for Part 2 of their interactive workshop series: Immigration Justice must be a Climate Fight\, Too. Wednesday\, May 28 • 7:00 PM
URL:https://ncejn.org/event/workshop-immigration-justice-must-be-a-climate-fight-too-pt-2/
CATEGORIES:Environmental Justice Event
END:VEVENT
END:VCALENDAR