BEGIN:VCALENDAR
VERSION:2.0
PRODID:-//NCEJN - ECPv6.15.13.1//NONSGML v1.0//EN
CALSCALE:GREGORIAN
METHOD:PUBLISH
X-ORIGINAL-URL:https://ncejn.org
X-WR-CALDESC:Events for NCEJN
REFRESH-INTERVAL;VALUE=DURATION:PT1H
X-Robots-Tag:noindex
X-PUBLISHED-TTL:PT1H
BEGIN:VTIMEZONE
TZID:America/New_York
BEGIN:DAYLIGHT
TZOFFSETFROM:-0500
TZOFFSETTO:-0400
TZNAME:EDT
DTSTART:20240310T070000
END:DAYLIGHT
BEGIN:STANDARD
TZOFFSETFROM:-0400
TZOFFSETTO:-0500
TZNAME:EST
DTSTART:20241103T060000
END:STANDARD
BEGIN:DAYLIGHT
TZOFFSETFROM:-0500
TZOFFSETTO:-0400
TZNAME:EDT
DTSTART:20250309T070000
END:DAYLIGHT
BEGIN:STANDARD
TZOFFSETFROM:-0400
TZOFFSETTO:-0500
TZNAME:EST
DTSTART:20251102T060000
END:STANDARD
BEGIN:DAYLIGHT
TZOFFSETFROM:-0500
TZOFFSETTO:-0400
TZNAME:EDT
DTSTART:20260308T070000
END:DAYLIGHT
BEGIN:STANDARD
TZOFFSETFROM:-0400
TZOFFSETTO:-0500
TZNAME:EST
DTSTART:20261101T060000
END:STANDARD
END:VTIMEZONE
BEGIN:VEVENT
DTSTART;TZID=America/New_York:20250722T190000
DTEND;TZID=America/New_York:20250722T200000
DTSTAMP:20260422T234019
CREATED:20250718T164024Z
LAST-MODIFIED:20250718T164024Z
UID:6282-1753210800-1753214400@ncejn.org
SUMMARY:Webinar: Stop ICE Abductions and Block the Bombs
DESCRIPTION:Webinar: Stop ICE Abductions and Block the Bombs with Congresswoman Delia Ramirez\, Mahmoud Khalil\, and more. As the U.S. continues to support Israel’s devastating genocide in Gaza\, communities across the U.S. are also facing intensified state violence. This webinar explores the deep connections between attacks on migrants in the U.S.\, the weaponization of ICE against people speaking up against the genocide\, and U.S. participation in Israel’s occupation and genocide on Palestinians. From Gaza to the United States\, examine how U.S. policy drives displacement and repression — and how grassroots resistance is pushing back. Tuesday\, July 22 • 7:00—8:00 PM
URL:https://ncejn.org/event/webinar-stop-ice-abductions-and-block-the-bombs/
CATEGORIES:Other Events
END:VEVENT
END:VCALENDAR