BEGIN:VCALENDAR
VERSION:2.0
PRODID:-//NCEJN - ECPv6.15.13.1//NONSGML v1.0//EN
CALSCALE:GREGORIAN
METHOD:PUBLISH
X-ORIGINAL-URL:https://ncejn.org
X-WR-CALDESC:Events for NCEJN
REFRESH-INTERVAL;VALUE=DURATION:PT1H
X-Robots-Tag:noindex
X-PUBLISHED-TTL:PT1H
BEGIN:VTIMEZONE
TZID:America/New_York
BEGIN:DAYLIGHT
TZOFFSETFROM:-0500
TZOFFSETTO:-0400
TZNAME:EDT
DTSTART:20240310T070000
END:DAYLIGHT
BEGIN:STANDARD
TZOFFSETFROM:-0400
TZOFFSETTO:-0500
TZNAME:EST
DTSTART:20241103T060000
END:STANDARD
BEGIN:DAYLIGHT
TZOFFSETFROM:-0500
TZOFFSETTO:-0400
TZNAME:EDT
DTSTART:20250309T070000
END:DAYLIGHT
BEGIN:STANDARD
TZOFFSETFROM:-0400
TZOFFSETTO:-0500
TZNAME:EST
DTSTART:20251102T060000
END:STANDARD
BEGIN:DAYLIGHT
TZOFFSETFROM:-0500
TZOFFSETTO:-0400
TZNAME:EDT
DTSTART:20260308T070000
END:DAYLIGHT
BEGIN:STANDARD
TZOFFSETFROM:-0400
TZOFFSETTO:-0500
TZNAME:EST
DTSTART:20261101T060000
END:STANDARD
END:VTIMEZONE
BEGIN:VEVENT
DTSTART;TZID=America/New_York:20250826T120000
DTEND;TZID=America/New_York:20250826T130000
DTSTAMP:20260421T015532
CREATED:20250904T000009Z
LAST-MODIFIED:20250904T000009Z
UID:6589-1756209600-1756213200@ncejn.org
SUMMARY:Webinar w/ Impacted Communities Against Wood Pellets
DESCRIPTION:Today Webinar with Impacted Communities Against Wood Pellets (ICAWP) and partners on Enviva’s Application to Expand Wood Pellet Production at its Northampton Facility\, Upcoming Hearing\, Planned Rally\, and Pre-Meeting \nAugust 26th •  12:00 – 1:00 PM. Read more about Enviva’s four wood pellet production facilities in NC in the news section below.
URL:https://ncejn.org/event/webinar-w-impacted-communities-against-wood-pellets/
CATEGORIES:Environmental Justice Event
END:VEVENT
BEGIN:VEVENT
DTSTART;TZID=America/New_York:20250826T180000
DTEND;TZID=America/New_York:20250826T200000
DTSTAMP:20260421T015532
CREATED:20250730T192503Z
LAST-MODIFIED:20250730T192503Z
UID:6375-1756231200-1756238400@ncejn.org
SUMMARY:Webinar: Stop Cop Cities Everywhere!
DESCRIPTION:Webinar: Stop Cop Cities Everywhere! Join organizers from struggles against cop cities and carceral infrastructures across the nation on Tuesday\, August 26 • 6:00 PM 8:00 PM to learn about what organizers are doing locally and how you can resist a cop city that might be coming to your city. Suggested donation of $40
URL:https://ncejn.org/event/webinar-stop-cop-cities-everywhere/
CATEGORIES:Other Events
END:VEVENT
BEGIN:VEVENT
DTSTART;TZID=America/New_York:20250826T180000
DTEND;TZID=America/New_York:20250826T200000
DTSTAMP:20260421T015532
CREATED:20250805T190459Z
LAST-MODIFIED:20250805T190459Z
UID:6426-1756231200-1756238400@ncejn.org
SUMMARY:Workshop: Stop Cop Cities Everywhere w/ Workshops 4 Gaza
DESCRIPTION:Workshop: Stop Cop Cities Everywhere with Workshops 4 Gaza. Join organizers from struggles against cop cities to learn about what organizers are doing locally and how you can resist. Tuesday\, August 26 6:00—8:00 PM
URL:https://ncejn.org/event/workshop-stop-cop-cities-everywhere-w-workshops-4-gaza/
CATEGORIES:Other Events
END:VEVENT
END:VCALENDAR